BEGIN:VCALENDAR
VERSION:2.0
PRODID:-//wp-events-plugin.com//7.2.3.1//EN
TZID:Europe/Berlin
X-WR-TIMEZONE:Europe/Berlin
BEGIN:VEVENT
UID:2756@frauenportal.koeln
DTSTART;TZID=Europe/Berlin:20201114T150000
DTEND;TZID=Europe/Berlin:20201114T183000
DTSTAMP:20201031T142142Z
URL:https://frauenportal.koeln/veranstaltungen/koelner-suedstadt-kulinaris
 cher-streifzug-mit-kostproben-35-h/
SUMMARY:Kölner Südstadt: Kulinarischer Streifzug mit Kostproben (3\,5 h)
DESCRIPTION:Der Termin findet nicht statt.\n\nDas Flair der Kölner Südsta
 dt ist legendär\; es wird Gaumenfreuden nachgegangen\, mal süß\, mal he
 rzhaft\, aber immer lecker. Einige Geschäfte mit Spezialitäten heißen d
 ie Teilnehmenden willkommen\, außerdem werden besondere Bistros und Resta
 urants gezeiget\, in dreien wird ein „Appetithäppchen“ gereicht. Aber
  es gibt auch "Finger-Food". Zwischen den „Stationen“ wird Unterhaltsa
 mes zum „Veedel“ serviert:\nWo stand die Welt-Schokoladenfabrik Stollw
 erck? Warum wurde ursprünglich jeder\, der beim Naschen erwischt wurde\, 
 bei Stollwerck sofort entlassen? Warum hieß der Firmensitz "Kamelle-Dom"?
  Warum war die Bäckerei "Schmitz Backes" ein Symbol für "Freiheit erlang
 en"? Wo ist in Köln der "Invalidendom"? Wo gibt es "lecker Pizza" und ang
 esagte Burger?\n\nIm Preis sind Kostproben\, Finger-Food und Häppchen ent
 halten\, aber keine Getränke.\nDieses Event kostet 29\,00 Euro pro Person
 \, inkl. Kostproben.\n\nAnmeldung bis 3 Tage vor Termin erforderlich unter
  service@tour-agentur.de\n\n
END:VEVENT
BEGIN:VTIMEZONE
TZID:Europe/Berlin
X-LIC-LOCATION:Europe/Berlin
BEGIN:STANDARD
DTSTART:20201025T020000
TZOFFSETFROM:+0200
TZOFFSETTO:+0100
TZNAME:CET
END:STANDARD
END:VTIMEZONE
END:VCALENDAR