BEGIN:VCALENDAR
VERSION:2.0
PRODID:-//wp-events-plugin.com//7.2.3.1//EN
TZID:Europe/Berlin
X-WR-TIMEZONE:Europe/Berlin
BEGIN:VEVENT
UID:2391@frauenportal.koeln
DTSTART;TZID=Europe/Berlin:20191031T170000
DTEND;TZID=Europe/Berlin:20191031T190000
DTSTAMP:20191021T100851Z
URL:https://frauenportal.koeln/veranstaltungen/koelner-vielfalt-anekdoten-
 unterwelt-brauhaus-mehr-2-h/
SUMMARY:Kölner Vielfalt: Anekdoten\, Unterwelt\, Brauhaus &amp\; mehr (2 h
 )
DESCRIPTION:Ein Potpourri – "von allem etwas": Zu hören ist typisch Köl
 sches\, Blick ins unterirdische Köln wird geworfen und dabei Römisches u
 nd Mittelalterliches entdeckt und ein Kölner Brauhaus ist zu erleben.\n\n
 Kosten: Euro 12\,00 zzgl. Getränke\nTreffpunkt: Römertor auf der Domplat
 te am Dom (Kardinal-Höffner-Platz)\n\nErlebnistouren Köln &amp\; Region 
 - Tour-Agentur\n
END:VEVENT
BEGIN:VTIMEZONE
TZID:Europe/Berlin
X-LIC-LOCATION:Europe/Berlin
BEGIN:STANDARD
DTSTART:20191027T020000
TZOFFSETFROM:+0200
TZOFFSETTO:+0100
TZNAME:CET
END:STANDARD
END:VTIMEZONE
END:VCALENDAR