BEGIN:VCALENDAR
VERSION:2.0
PRODID:-//wp-events-plugin.com//7.2.3.1//EN
TZID:Europe/Berlin
X-WR-TIMEZONE:Europe/Berlin
BEGIN:VEVENT
UID:6143@frauenportal.koeln
DTSTART;TZID=Europe/Berlin:20260315T140000
DTEND;TZID=Europe/Berlin:20260315T160000
DTSTAMP:20260228T112156Z
URL:https://frauenportal.koeln/veranstaltungen/koelnerinnen-kaempfen-fuer-
 demokratie-und-frauenrechte/
SUMMARY:Kölnerinnen kämpfen für Demokratie und Frauenrechte
DESCRIPTION:Frauen haben viel zur demokratischen Entwicklung beigetragen. S
 chon 1847 schrieb Mathilde Anneke eine feministische Kampfschrift. Die alt
 e Frauenbewegung forderte erst Zugang zur Bildung\, dann das Wahlrecht. Na
 ch dem Zweiten Weltkrieg bildeten sich Frauenausschüsse\, die sich wieder
  für Demokratie einsetzten\, Frauen kämpften 1949 für die Gleichberecht
 igung im Grundgesetz. Die Neue Frauenbewegung stritt für Selbstbestimmung
 \, für die Abschaffung des § 218 und das erste kommunale Frauenamt in K
 öln (1982)\, das bundesweit zum Vorbild wurde.\n\nVeranstalterin:\nKölne
 r Frauengeschichtsverein e.V.\n\nKontakt:\nTel.: 0221 / 24 82 65\, E-Mail:
  info@frauengeschichtsverein.de\n\nKosten / Anmeldung:\nKostenbeitrag: 12 
 Euro\, Tickets: www.qultor.de
LOCATION:Hermann-Josef-Brunnen\, Waidmarkt 12\, 50676 Köln
GEO:50.93229;6.956449
X-APPLE-STRUCTURED-LOCATION;VALUE=URI;X-ADDRESS=Waidmarkt 12\, Köln\, 5067
 6\, Veranstaltungsort\, Deutschland;X-APPLE-RADIUS=100;X-TITLE=Hermann-Jos
 ef-Brunnen:geo:50.93229,6.956449
END:VEVENT
BEGIN:VTIMEZONE
TZID:Europe/Berlin
X-LIC-LOCATION:Europe/Berlin
BEGIN:STANDARD
DTSTART:20251026T020000
TZOFFSETFROM:+0200
TZOFFSETTO:+0100
TZNAME:CET
END:STANDARD
END:VTIMEZONE
END:VCALENDAR