BEGIN:VCALENDAR
VERSION:2.0
PRODID:-//wp-events-plugin.com//7.2.3.1//EN
TZID:Europe/Berlin
X-WR-TIMEZONE:Europe/Berlin
BEGIN:VEVENT
UID:1929@frauenportal.koeln
DTSTART;TZID=Europe/Berlin:20190526T140000
DTEND;TZID=Europe/Berlin:20190526T160000
DTSTAMP:20190430T132901Z
URL:https://frauenportal.koeln/veranstaltungen/koelsche-tochter-fluechtend
 e-migrantin-migrationsgeschichte-von-frauen/
SUMMARY:Kölsche Tochter\, Flüchtende\, Migrantin – Migrationsgeschichte
  von Frauen
DESCRIPTION:Seit Jahrhunderten haben sich Frauen auf den Weg nach Köln gem
 acht. Oft gaben wirtschaftliche Aspekte den Ausschlag\, manchmal konfessio
 nelle oder politische Verfolgung. Wie gelang es ihnen\, das neue Leben in 
 einer fremden Sprache einzurichten? Wie nahmen die KölnerInnen sie auf? U
 mgekehrt verließen auch Kölnerinnen aus ganz unterschiedlichen Gründen 
 zu verschiedenen Zeiten ihre Stadt.\n\nKöln'ün Bülbülü – unter dem 
 Namen "Nachtigall von Köln" machte die türkische Sängerin Yüksel Özka
 sap in den 1970er Jahren eine erstaunliche Karriere. Sie war der Star der 
 heimatorientierten ArbeitsmigrantInnen der ersten Generation.\n\nBei der F
 ührung werden Einzelschicksale sichtbar. Wer war eigentlich früher Ausl
 änderin. Welches Bürgerrecht hatten Frauen der Frühen Neuzeit? Wie bega
 nn die flandrische Unternehmerin Marie Clementine Martin im 19. Jahrhunder
 t die Entwicklung ihres "Klosterfrau Melissengeist"? Wozu gab es um 1900 i
 m Kölner Bahnhof einen speziellen Schutzraum für allein reisende Mädche
 n und Frauen?\n\nVeranstalterin:\nKölner Frauengeschichtsverein e.V.\n\nK
 ontakt:\nTel.: 0221 / 24 82 65\, E-Mail: info@frauengeschichtsverein.de\n\
 nKosten / Anmeldung:\nSpende erwünscht.\n\nVeranstaltungsort:\nTreffpunkt
 : 14.00 Uhr Eigelstein-Torburg Köln\, [map id=917]
END:VEVENT
BEGIN:VTIMEZONE
TZID:Europe/Berlin
X-LIC-LOCATION:Europe/Berlin
BEGIN:DAYLIGHT
DTSTART:20190331T030000
TZOFFSETFROM:+0100
TZOFFSETTO:+0200
TZNAME:CEST
END:DAYLIGHT
END:VTIMEZONE
END:VCALENDAR