BEGIN:VCALENDAR
VERSION:2.0
PRODID:-//wp-events-plugin.com//7.2.3.1//EN
TZID:Europe/Berlin
X-WR-TIMEZONE:Europe/Berlin
BEGIN:VEVENT
UID:2758@frauenportal.koeln
DTSTART;TZID=Europe/Berlin:20200913T140000
DTEND;TZID=Europe/Berlin:20200913T160000
DTSTAMP:20200629T074523Z
URL:https://frauenportal.koeln/veranstaltungen/koelscher-kaffeeklatsch-kon
 ditoreitour-stadtfuehrung-4/
SUMMARY:Kölscher Kaffeeklatsch - Konditoreitour - Stadtführung
DESCRIPTION:Eine süße Spurensuche zum Thema Kaffeekränzchen mit sahnigen
 \, sündigen Stopps in Caféhäusern und Konditoreien. Von der Bergischen 
 Kaffeetafel\, der Torte für den Papst bis hin zum „Coffee to go“. Sü
 ße Naschereien inklusive.\n\nGetränke werden bar vor Ort bezahlt.\n\nAnm
 eldung erforderlich unter service@tour-agentur.de\n\nDie Führung kostet 1
 9\,90 Euro pro Person.\n\n
END:VEVENT
BEGIN:VTIMEZONE
TZID:Europe/Berlin
X-LIC-LOCATION:Europe/Berlin
BEGIN:DAYLIGHT
DTSTART:20200329T030000
TZOFFSETFROM:+0100
TZOFFSETTO:+0200
TZNAME:CEST
END:DAYLIGHT
END:VTIMEZONE
END:VCALENDAR