BEGIN:VCALENDAR
VERSION:2.0
PRODID:-//wp-events-plugin.com//7.2.3.1//EN
TZID:Europe/Berlin
X-WR-TIMEZONE:Europe/Berlin
BEGIN:VEVENT
UID:2394@frauenportal.koeln
DTSTART;TZID=Europe/Berlin:20191117T140000
DTEND;TZID=Europe/Berlin:20191117T160000
DTSTAMP:20191021T094308Z
URL:https://frauenportal.koeln/veranstaltungen/koelscher-kaffeeklatsch-kon
 ditoreitour/
SUMMARY:Kölscher Kaffeeklatsch - Konditoreitour
DESCRIPTION:Eine süße Spurensuche zum Thema Kaffeekränzchen mit sahnigen
 \, sündigen Stopps in Caféhäusern und Konditoreien. Von der Bergischen 
 Kaffeetafel über die Torte für den Papst bis hin zum „Coffee to go“.
  Süße Naschereien sind inklusive.\n\nKosten: Euro 19\,90 zzgl. Getränke
 \n\nAnmeldung erforderlich.\nservice@tour-agentur.de\n0221 93 272 63\n\nEr
 lebnistouren Köln &amp\; Region - Tour-Agentur\n
END:VEVENT
BEGIN:VTIMEZONE
TZID:Europe/Berlin
X-LIC-LOCATION:Europe/Berlin
BEGIN:STANDARD
DTSTART:20191027T020000
TZOFFSETFROM:+0200
TZOFFSETTO:+0100
TZNAME:CET
END:STANDARD
END:VTIMEZONE
END:VCALENDAR