BEGIN:VCALENDAR
VERSION:2.0
PRODID:-//wp-events-plugin.com//7.2.3.1//EN
TZID:Europe/Berlin
X-WR-TIMEZONE:Europe/Berlin
BEGIN:VEVENT
UID:3684@frauenportal.koeln
DTSTART;TZID=Europe/Berlin:20220306T133000
DTEND;TZID=Europe/Berlin:20220306T163000
DTSTAMP:20220228T193030Z
URL:https://frauenportal.koeln/veranstaltungen/koestlich-koechin-und-koels
 che-leckerfress-2/
SUMMARY:Köstlich! Köchin und kölsche Leckerfress 
DESCRIPTION:– Führung zum Essen und Trinken mit Café- und Brauhausbesuc
 h –\n\nBei dieser Tour durch die Altstadt hören Sie von Köchinnen\, di
 e sich mit aufwändigen Rezepten und Fastengeboten auskannten\, von einsch
 ränkenden Vorschriften für die bei Kindbettfesten zu servierenden Speise
 n und von ungewöhnlichen Verboten für Fischverkäuferinnen.\n\nEs geht u
 m Überfluss und um Frauen\, die in Hungerjahren den Mangel organisierten.
  Erzählt wird von der weiblichen Kunst des Bierbrauens und von Kaffeegeni
 eßerinnen\, für die ein extra Damensalon eingerichtet wurde.\n\nVeransta
 lterin:\nKölner Frauengeschichtsverein e.V.\n\nKontakt:\nTel.: 0221 / 24 
 82 65\, E-Mail: info@frauengeschichtsverein.de\n\nKosten / Anmeldung:\nKos
 tenbeitrag: 22 Euro inkl. kleiner Leckerei\, Kaffee\, Kölsch.\nAnmeldung 
 erforderlich!\n\nVeranstaltungsort:\nTreffpunkt: 13.30 Uhr Theo-Burauen-Pl
 atz\, 50667 Köln\, [map id=14769]
END:VEVENT
BEGIN:VTIMEZONE
TZID:Europe/Berlin
X-LIC-LOCATION:Europe/Berlin
BEGIN:STANDARD
DTSTART:20211031T020000
TZOFFSETFROM:+0200
TZOFFSETTO:+0100
TZNAME:CET
END:STANDARD
END:VTIMEZONE
END:VCALENDAR