BEGIN:VCALENDAR
VERSION:2.0
PRODID:-//wp-events-plugin.com//7.2.3.1//EN
TZID:Europe/Berlin
X-WR-TIMEZONE:Europe/Berlin
BEGIN:VEVENT
UID:3755@frauenportal.koeln
DTSTART;TZID=Europe/Berlin:20220521T133000
DTEND;TZID=Europe/Berlin:20220521T163000
DTSTAMP:20220430T093325Z
URL:https://frauenportal.koeln/veranstaltungen/koestlich-koechin-und-koels
 che-leckerfress-3/
SUMMARY:Köstlich! Köchin und kölsche Leckerfress 
DESCRIPTION:– Führung zum Essen und Trinken mit Café- und Brauhausbesuc
 h –\n\nBei dieser Tour durch die Altstadt hören Sie von Köchinnen\, di
 e sich mit aufwändigen Rezepten und Fastengeboten auskannten\, von einsch
 ränkenden Vorschriften für die bei Kindbettfesten zu servierenden Speise
 n und von ungewöhnlichen Verboten für Fischverkäuferinnen.\n\nEs geht u
 m Überfluss und um Frauen\, die in Hungerjahren den Mangel organisierten.
  Erzählt wird von der weiblichen Kunst des Bierbrauens und von Kaffeegeni
 eßerinnen\, für die ein extra Damensalon eingerichtet wurde.\n\nVeransta
 lterin:\nKölner Frauengeschichtsverein e.V.\n\nKontakt:\nTel.: 0221 / 24 
 82 65\, E-Mail: info@frauengeschichtsverein.de\n\nKosten / Anmeldung:\nKos
 tenbeitrag: 22 Euro inkl. kleiner Leckerei\, Kaffee\, Kölsch.\nAnmeldung 
 und Vorverkauf erforderlich!\n\nVeranstaltungsort:\nTreffpunkt: 13.30 Uhr 
 Theo-Burauen-Platz\, 50667 Köln\, [map id=14769]
END:VEVENT
BEGIN:VTIMEZONE
TZID:Europe/Berlin
X-LIC-LOCATION:Europe/Berlin
BEGIN:DAYLIGHT
DTSTART:20220327T030000
TZOFFSETFROM:+0100
TZOFFSETTO:+0200
TZNAME:CEST
END:DAYLIGHT
END:VTIMEZONE
END:VCALENDAR