BEGIN:VCALENDAR
VERSION:2.0
PRODID:-//wp-events-plugin.com//7.2.3.1//EN
TZID:Europe/Berlin
X-WR-TIMEZONE:Europe/Berlin
BEGIN:VEVENT
UID:2399@frauenportal.koeln
DTSTART;TZID=Europe/Berlin:20191026T140000
DTEND;TZID=Europe/Berlin:20191026T153000
DTSTAMP:20191021T101348Z
URL:https://frauenportal.koeln/veranstaltungen/krippen-braeuche-wintermaer
 chen/
SUMMARY:Krippen\, Bräuche\, Wintermärchen
DESCRIPTION:Zur Weihnachtszeit gibt es zahlreiche Bräuche und Legenden run
 d um das Weihnachtsfest. Es wird sich auf Spurensuche begeben\, woher dies
 e Bräuche kommen und wie sich manche verändert haben. Natürlich werden 
 auch einige Krippen angeschaut. Wen finden wir dort außer der Hl. Familie
 ?\n\nKosten: Euro 11\,00 pro Person\nTreffpunkt: Römertor auf der Domplat
 te am Dom (Kardinal-Höffner-Platz)\n\nErlebnistouren Köln &amp\; Region 
 - Tour-Agentur
END:VEVENT
BEGIN:VTIMEZONE
TZID:Europe/Berlin
X-LIC-LOCATION:Europe/Berlin
BEGIN:DAYLIGHT
DTSTART:20190331T030000
TZOFFSETFROM:+0100
TZOFFSETTO:+0200
TZNAME:CEST
END:DAYLIGHT
END:VTIMEZONE
END:VCALENDAR