BEGIN:VCALENDAR
VERSION:2.0
PRODID:-//wp-events-plugin.com//7.2.3.1//EN
TZID:Europe/Berlin
X-WR-TIMEZONE:Europe/Berlin
BEGIN:VEVENT
UID:12@frauenportal.koeln
DTSTART;TZID=Europe/Berlin:20170105T140000
DTEND;TZID=Europe/Berlin:20170105T160000
DTSTAMP:20170528T141039Z
URL:https://frauenportal.koeln/veranstaltungen/krippen-sued-von-st-pantale
 on-bis-st-maria-lyskirchen-5-januar-2017-donnerstag/
SUMMARY:Krippen Süd: Von St. Pantaleon bis St. Maria Lyskirchen 
DESCRIPTION:\n          \n\nKöln hat eine einzigartige Krippenlandschaft. 
 Es werden die Entwicklung und Symbolik der Krippen erläutert und Fragen b
 eantwortet wie die\, seit wann es einen schwarzen König gibt\, warum es d
 rei Weise sind\, die sich auf den Weg nach Bethlehem machen\, weshalb Ochs
  und Esel nicht fehlen dürfen oder welche Bedeutung die Geschenke haben\,
  die das Kind erhält. – Je nach Weg werden exemplarisch ausgewählte Kr
 ippen vorgestellt. Bei dieser Tour geht es von der schlichten Wachsfiguren
 krippe in der romanischen Kirche St. Pantaleon zur modernen Lego-Krippe in
  St. Johann-Baptist(Crux-Kirche)\, zu St. Georg und schließlich in die "M
 iljöhkrippe" in St. Maria Lyskirchen.Kontakt: Tour-Agentur\, Tel.: 0221 /
  93 272 63\, E-Mail: eval(decodeURIComponent('%76%61%72%20%73%3D%27%65%73%
 76%72%63%69%40%65%6F%74%72%75%61%2D%65%67%74%6E%72%75%64%2E%65%27%3B%76%61
 %72%20%72%3D%27%27%3B%66%6F%72%28%76%61%72%20%69%3D%30%3B%69%3C%73%2E%6C%6
 5%6E%67%74%68%3B%69%2B%2B%2C%69%2B%2B%29%7B%72%3D%72%2B%73%2E%73%75%62%73%
 74%72%69%6E%67%28%69%2B%31%2C%69%2B%32%29%2B%73%2E%73%75%62%73%74%72%69%6E
 %67%28%69%2C%69%2B%31%29%7D%64%6F%63%75%6D%65%6E%74%2E%77%72%69%74%65%28%2
 7%3C%61%20%68%72%65%66%3D%22%6D%61%69%6C%74%6F%3A%27%2B%72%2B%27%22%3E%73%
 65%72%76%69%63%65%40%74%6F%75%72%2D%61%67%65%6E%74%75%72%2E%64%65%3C%2F%61
 %3E%27%29%3B'))Teilnahmeentgelt: 12\,00 Euro p.P.Ab 4 Personen Anmeldung e
 rforderlich: Tel.: 0221 / 93 272 63\, eval(decodeURIComponent('%76%61%72%2
 0%73%3D%27%6E%69%6F%66%74%40%75%6F%2D%72%67%61%6E%65%75%74%2E%72%65%64%27%
 3B%76%61%72%20%72%3D%27%27%3B%66%6F%72%28%76%61%72%20%69%3D%30%3B%69%3C%73
 %2E%6C%65%6E%67%74%68%3B%69%2B%2B%2C%69%2B%2B%29%7B%72%3D%72%2B%73%2E%73%7
 5%62%73%74%72%69%6E%67%28%69%2B%31%2C%69%2B%32%29%2B%73%2E%73%75%62%73%74%
 72%69%6E%67%28%69%2C%69%2B%31%29%7D%64%6F%63%75%6D%65%6E%74%2E%77%72%69%74
 %65%28%27%3C%61%20%68%72%65%66%3D%22%6D%61%69%6C%74%6F%3A%27%2B%72%2B%27%2
 2%3E%69%6E%66%6F%40%74%6F%75%72%2D%61%67%65%6E%74%75%72%2E%64%65%3C%2F%61%
 3E%27%29%3B'))Weitere Informationen: Erlebnistouren in Köln und Region - 
 Tour-Agentur
END:VEVENT
BEGIN:VTIMEZONE
TZID:Europe/Berlin
X-LIC-LOCATION:Europe/Berlin
BEGIN:STANDARD
DTSTART:20161030T020000
TZOFFSETFROM:+0200
TZOFFSETTO:+0100
TZNAME:CET
END:STANDARD
END:VTIMEZONE
END:VCALENDAR