BEGIN:VCALENDAR
VERSION:2.0
PRODID:-//wp-events-plugin.com//7.2.3.1//EN
TZID:Europe/Berlin
X-WR-TIMEZONE:Europe/Berlin
BEGIN:VEVENT
UID:5076@frauenportal.koeln
DTSTART;TZID=Europe/Berlin:20240608T150000
DTEND;TZID=Europe/Berlin:20240608T170000
DTSTAMP:20240527T142712Z
URL:https://frauenportal.koeln/veranstaltungen/kundgebung-gleiche-macht-gl
 eiche-stimme/
SUMMARY:Kundgebung "Gleiche Macht - Gleiche Stimme"
DESCRIPTION:Es ist an der Zeit\, vereint für Geschlechtergerechtigkeit in 
 Europa einzustehen!\nAm 8. Juni lädt der BPW Köln herzlich ein\, sich au
 f dem Roncalliplatz in Köln bei einer Kundgebung zu versammeln\, um entsc
 hlossen für eine gerechte Zukunft zu kämpfen. 🌍💪\n\nUnter dem Mott
 o "Gleiche Macht - Gleiche Stmme" sollen die folgenden zentralen Themen in
  den Fokus gerückt und vehement vertreten werden:\n\n🤝 Förderung von 
 Gleichheit in allen Lebensbereichen\n🛑 Bekämpfung von Gewalt gegen Fra
 uen in ganz Europa\n🏛 Schaffung gleicher Chancen in Politik\, Wirtschaf
 t und Gesellschaft\n💰 Durchsetzung von gleicher Bezahlung für gleiche 
 Arbeit\n🏠 Anerkennung und Wertschätzung unbezahlter Sorgearbeit für a
 lle\n\nEie breite Unterstützung ist von entscheidender Bedeutung\, um ech
 te Veränderungen herbeizuführen und eine faire Zukunft für alle zu gest
 alten. Gemeinsam kann eine starke Botschaft für Gleichstellung und Parit
 ät gesendet werden\, die weit über diese Veranstaltung hinausreicht. 
 💬🌟\n\nSpecial Guests:\nProf. Dr. Rita Süssmuth\nChristine Kronenber
 g\n\nHier ist der Aufruf:Kundgebung für Gleichstellung_2024 (pdf-Datei\, 
 479 KB) \n\nVeranstalterinnen:\nBPW Germany Club Köln\n\nAnsprechpartneri
 n:\nNyelete S. Gonçalves Chilenge\,E-Mail: bpw-koeln@web.de
LOCATION:Roncalliplatz\, Roncalliplatz\, 50667 Köln 
GEO:50.94043365;6.95795059
X-APPLE-STRUCTURED-LOCATION;VALUE=URI;X-ADDRESS=Roncalliplatz\, Köln \, 50
 667\, Veranstaltungsort\, Deutschland;X-APPLE-RADIUS=100;X-TITLE=Roncallip
 latz:geo:50.94043365,6.95795059
END:VEVENT
BEGIN:VTIMEZONE
TZID:Europe/Berlin
X-LIC-LOCATION:Europe/Berlin
BEGIN:DAYLIGHT
DTSTART:20240331T030000
TZOFFSETFROM:+0100
TZOFFSETTO:+0200
TZNAME:CEST
END:DAYLIGHT
END:VTIMEZONE
END:VCALENDAR