BEGIN:VCALENDAR
VERSION:2.0
PRODID:-//wp-events-plugin.com//7.2.3.1//EN
TZID:Europe/Berlin
X-WR-TIMEZONE:Europe/Berlin
BEGIN:VEVENT
UID:3776@frauenportal.koeln
DTSTART;TZID=Europe/Berlin:20220612T140000
DTEND;TZID=Europe/Berlin:20220612T160000
DTSTAMP:20220531T120821Z
URL:https://frauenportal.koeln/veranstaltungen/kunstseidene-suedstadt-irmg
 ard-keun-zeigt-ihr-veedel-3/
SUMMARY:Kunstseidene Südstadt: Irmgard Keun zeigt ihr Veedel
DESCRIPTION:Kostümführung auf den Spuren der Kölner Autorin\n\nDie Schri
 ftstellerin Irmgard Keun führt Sie in der Person von Sonja Kargel durch i
 hr persönliches Viertel. Sie schrieb 1931 mit 26 Jahren ihren ersten Roma
 n “Gilgi” und avancierte zu einer bekannten Schriftstellerin der Weima
 rer Republik. 1932 erschien “Das kunstseidene Mädchen”\, das ein noch
  größerer Erfolg wurde. Die Nazis verboten ihre Bücher als dekadente 
 “Asphaltliteratur” und trieben sie ins Exil. Dort verfasste sie “Nac
 h Mitternacht”\, einen Roman über Nazideutschland\, den Egon Erwin Kisc
 h als “großartigen Antinaziroman” bezeichnete.\n\nEine wesentliche St
 ation des Stadtrundgangs ist die frühere Universtität\, jetzt Fachhochsc
 hule\, wo an die Bücherverbrennung der NS-Universtitäten vor genau 80 Ja
 hren im Mai 1933 erinnert wird. Irmgard Keun gehörte zu den Schriftstelle
 rInnen\, die als “undeutsch” eingestuft wurden und deren Bücher öffe
 ntlich auf dem Scheiterhaufen brannten.\n\nDie Schauspielerin Sonja Kargel
  schlüpft in die Rolle der Kölner Autorin und nimmt Sie auf einen Stadts
 paziergang durch die Südstadt mit. Sie präsentiert den Teilnehmenden ihr
  Leben und ihre Werke – unangepasst\, schnodderig\, frech!\n\nVeranstalt
 erin:\nKölner Frauengeschichtsverein e.V.\n\nKontakt:\nTel.: 0221 / 24 82
  65 und 0179 / 4695248\, E-Mail: info@frauengeschichtsverein.de\n\nKosten 
 / Anmeldung:\nKostenbeitrag: 15 Euro\n\nVeranstaltungsort:\nTreffpunkt: 14
 .00 Uhr Elsaßstr. 43\, 50677 Köln\, [map id=1044]
END:VEVENT
BEGIN:VTIMEZONE
TZID:Europe/Berlin
X-LIC-LOCATION:Europe/Berlin
BEGIN:DAYLIGHT
DTSTART:20220327T030000
TZOFFSETFROM:+0100
TZOFFSETTO:+0200
TZNAME:CEST
END:DAYLIGHT
END:VTIMEZONE
END:VCALENDAR