BEGIN:VCALENDAR
VERSION:2.0
PRODID:-//wp-events-plugin.com//7.2.3.1//EN
TZID:Europe/Berlin
X-WR-TIMEZONE:Europe/Berlin
BEGIN:VEVENT
UID:3673@frauenportal.koeln
DTSTART;TZID=Europe/Berlin:20220308T150000
DTEND;TZID=Europe/Berlin:20220308T180000
DTSTAMP:20241115T125632Z
URL:https://frauenportal.koeln/veranstaltungen/kunstwaesche/
SUMMARY:(IFT) Kunst&Wäsche
DESCRIPTION:– Vernissage\, Aktionen und Gespräche zum Weltfrauentag 2022
  –\n\nMal wieder jährt sich der Weltfrauentag und das nun schon zum dri
 tten Mal während der Pandemie. Die letzten Monate haben gezeigt\, Frauen 
 halten die Gesellschaft am Laufen\, in Supermärkten und im Gesundheitssys
 tem\, in den Familien und im Ehrenamt. Viele Aufgaben haben sich verdichte
 t und Frauen brauchen Platz zum Atmen - für die kleine Revolte - und für
  einen freien Kopf. Das Weltfrauentagsprogramm in der Melanchthon-Akademie
  bietet genau das\, Kunst und neue Impulse\, Austausch und befreienden Pro
 test - selbstverständlich mit Kinderaktionen\, Limo und einem kleinen Sna
 ck.\n\n 	15.00 Uhr Vernissage: Frauen-Kunstausstellung\n 	im Anschluss Pod
 iumsgespräch „Wir in der Pandemie“\n 	Mitmach-Performance „Nur noch
  die Wäsche“ unterwegs im Spannungsfeld von Mentalload und Care-Arbeit\
 n 	Weltenbauen mit Gigi Bloks Erzählungen von inspirierenden Frauengeschi
 chten\n 	Musik und Austausch bei Getränk und Snack\n\nVeranstalterinnen:\
 nFrauenreferat der Evangelischen Kirche in Köln und Melanchthon-Akademie 
 Köln\, www.melanchthon-akademie.de\n\nKosten / Anmeldung:\nEintritt frei\
 , E-Mail: anmeldung@melanchthon-akademie.de oder Tel.: 0221 / 93 18 030\n\
 nVeranstaltungsort:\nMelanchthon-Akademie Köln\, Kartäuserwall 24b\, 506
 78 Köln\, [map id=931]
END:VEVENT
BEGIN:VTIMEZONE
TZID:Europe/Berlin
X-LIC-LOCATION:Europe/Berlin
BEGIN:STANDARD
DTSTART:20211031T020000
TZOFFSETFROM:+0200
TZOFFSETTO:+0100
TZNAME:CET
END:STANDARD
END:VTIMEZONE
END:VCALENDAR