BEGIN:VCALENDAR
VERSION:2.0
PRODID:-//wp-events-plugin.com//7.2.3.1//EN
TZID:Europe/Berlin
X-WR-TIMEZONE:Europe/Berlin
BEGIN:VEVENT
UID:3360@frauenportal.koeln
DTSTART;TZID=Europe/Berlin;VALUE=DATE:20211005
DTEND;TZID=Europe/Berlin;VALUE=DATE:20211006
DTSTAMP:20210930T125622Z
URL:https://frauenportal.koeln/veranstaltungen/kurse-beratungen-und-moegli
 chkeiten-fuer-gefluechtete-frauen-und-migrantinnen-15/
SUMMARY:Kurse\, Beratungen und Möglichkeiten für geflüchtete Frauen und 
 Migrantinnen
DESCRIPTION:Das Projekt AKAD FM-FM ( AKAD emikerinnen F lucht/ M igration F
  rauen/ M ädchen) bietet Migrantinnen und geflüchteten Frauen mit akadem
 ischem Hintergrund folgende Möglichkeiten:\n\n 	dienstags\, 14.30  –  1
 6.30 Uhr\, online\nDeutschkurse (A1) \n\n\n 	donnerstags\, 13.00  –  1
 6.30 Uhr\, online\nDeutschkurse (A0 bis B1)\n\n\n 	donnerstags\, 15.00  
 –  16.30 Uhr\, online\nZeichnen- und Malkurs für erwachsene Frauen\n\n
 \n 	2. und 4. Dienstag\, 10.00  –  12.00 Uhr\nLesekreis\n\n\nKurs bis 23
 .12.2021 donnerstags 17.00 - 18.30 Uhr:\n"Go Digital 2021. Erlernen der be
 rufsbezogenen Fachwörter mit Hilfe einer multisprachige und multimediale 
 Datenbank" \nOrt: Firma Goal / Sattari\, Wilhelmstr. 12 - 51143 Köln (Por
 z Markt) \n\nVortrag Donnerstag 14.10.2021\, 09.30 - 11.30 Uhr:\nVom Auswa
 nderungsland zum Einwanderungsland. Ein historischer Blick auf die deutsch
 en Migrationsgesellschaft. \nReferentin: Frau Prof. Dr. Angelika Schmidt-K
 oddenberg \nOrt: Online\n\nVortrag Donnerstag 21.10.2021\, 15.00 - 16.00 U
 hr:\nGrundlagen der Filmdramaturgie für Flüchtlinge \nReferent: Herr Ave
 sta Roknabadi \nOrt: Jugendzentrum Glashütte\, Glashüttenstr. 20 - 51143
  Köln (Porz Markt) \n\nVeranstalterin:\nArbeitsgruppe der Akademikerinnen
  in Menschenrechte-Einundzwanzig e.V.\, http://akadfmfm-menschenrechte21ev
 .com\n\nAnsprechpartnerin:\nAfsar Soheila Sattari\, Tel.: 0178 / 6357200\,
  E-Mail: a.sattari@goal-epmts.de
END:VEVENT
BEGIN:VTIMEZONE
TZID:Europe/Berlin
X-LIC-LOCATION:Europe/Berlin
BEGIN:DAYLIGHT
DTSTART:20210328T030000
TZOFFSETFROM:+0100
TZOFFSETTO:+0200
TZNAME:CEST
END:DAYLIGHT
END:VTIMEZONE
END:VCALENDAR