BEGIN:VCALENDAR
VERSION:2.0
PRODID:-//wp-events-plugin.com//7.2.3.1//EN
TZID:Europe/Berlin
X-WR-TIMEZONE:Europe/Berlin
BEGIN:VEVENT
UID:3404@frauenportal.koeln
DTSTART;TZID=Europe/Berlin;VALUE=DATE:20211102
DTEND;TZID=Europe/Berlin;VALUE=DATE:20211103
DTSTAMP:20220131T140546Z
URL:https://frauenportal.koeln/veranstaltungen/kurse-beratungen-und-moegli
 chkeiten-fuer-gefluechtete-frauen-und-migrantinnen-16/
SUMMARY:Kurse\, Beratungen und Möglichkeiten für geflüchtete Frauen und 
 Migrantinnen
DESCRIPTION:Das Projekt AKAD FM-FM ( AKAD emikerinnen F lucht/ M igration F
  rauen/ M ädchen) bietet Migrantinnen und geflüchteten Frauen\, insbeson
 dere mit akademischem Hintergrund\, folgende Möglichkeiten:\n\nDienstag\,
  16.11.2021\, 15.00 - 17.00 Uhr:\nEröffnungsfeier für die neuen Angebote
  von AKAD FM-FM bei Parea \nOrt: Parea-Gemeinschaftsraum\, Josefstr. 64 - 
 51143 Köln (Porz Markt) \n\nDonnerstag\, den 25.11.2021\, 14.30 - 17.30 U
 hr\nVortrag und Workshop: Erfolgreiche Bewerbungen\, insbesondere  für Na
 turwissenschaftlerinnen - in der Forschung und Ausserhalb \nOrt: Jugendzen
 trum Glashütte\, Glashüttenstr. 20 - 51143 Köln (Porz Markt)\n\n\n 	die
 nstags\, 14.30  –  16.30 Uhr\, online\nDeutschkurse (A1) \n\n\n 	diensta
 gs\, 14.15  –  16.30 Uhr\nSelbstfindungskurs\nOrt: Parea-Gemeinschaftsra
 um\, Josefstr. 64 - 51143 Köln (Porz Markt) \n\n\ndienstags\, 15.00  – 
  16.30 Uhr\nBastel- und Malkurs für Kinder\nOrt: Parea-Gemeinschaftsraum\
 , Josefstr. 64 - 51143 Köln (Porz Markt) \n\n\nam zweiten Dienstag im Mon
 at\, 18.15  –  20.00 Uhr\, online\nLesekreis\n\n\n 	donnerstags\, 13.00
   –  16.30 Uhr\nDeutschkurse (A0 und B1)\nOrt: Jugendzentrum Glashütt
 e\, Glashüttenstr. 20 - 51143 Köln (Porz Markt)\n\n\n 	donnerstags\, 15.
 00  –  16.30 Uhr\nZeichnen- und Malkurs für erwachsene Frauen\nOrt: J
 ugendzentrum Glashütte\, Glashüttenstr. 20 - 51143 Köln (Porz Markt)\n\
 n\n\n	bis 23.12.2021 donnerstags\, 17.00 - 18.30 Uhr\n"Go Digital 2021. Er
 lernen der berufsbezogenen Fachwörter mit Hilfe einer multisprachige und 
 multimediale Datenbank" \nOrt: Firma Goal / Sattari\, Wilhelmstr. 12 - 511
 43 Köln (Porz Markt)\n\n\nVeranstalterin:\nArbeitsgruppe der Akademikerin
 nen in Menschenrechte-Einundzwanzig e.V.\, http://akadfmfm-menschenrechte2
 1ev.com\n\nAnsprechpartnerin:\nAfsar Soheila Sattari\, Tel.: 0178 / 635720
 0\, E-Mail: a.sattari@goal-epmts.de
END:VEVENT
BEGIN:VTIMEZONE
TZID:Europe/Berlin
X-LIC-LOCATION:Europe/Berlin
BEGIN:STANDARD
DTSTART:20211031T020000
TZOFFSETFROM:+0200
TZOFFSETTO:+0100
TZNAME:CET
END:STANDARD
END:VTIMEZONE
END:VCALENDAR