BEGIN:VCALENDAR
VERSION:2.0
PRODID:-//wp-events-plugin.com//7.2.3.1//EN
TZID:Europe/Berlin
X-WR-TIMEZONE:Europe/Berlin
BEGIN:VEVENT
UID:2870@frauenportal.koeln
DTSTART;TZID=Europe/Berlin;VALUE=DATE:20201001
DTEND;TZID=Europe/Berlin;VALUE=DATE:20201002
DTSTAMP:20200930T135059Z
URL:https://frauenportal.koeln/veranstaltungen/kurse-beratungen-und-moegli
 chkeiten-fuer-gefluechtete-frauen-und-migrantinnen-5/
SUMMARY:Kurse\, Beratungen und Möglichkeiten für geflüchtete Frauen und 
 Migrantinnen
DESCRIPTION:Das Projekt AKAD FM-FM ( AKAD emikerinnen F lucht/ M igration F
  rauen/ M ädchen) bietet Migrantinnen und geflüchteten Frauen mit akadem
 ischem Hintergrund folgende Kurse\, Beratungen und Möglichkeiten:\n\nKurs
 e\, donnerstags im Jugendzentrum Glashütte am Porzer Markt:\n\n 	Deutschk
 urse (A0 bis B2) mit Kinderbetreuung\, 13:00 - 16:30 h\n 	Kurs Moderne Mal
 erei für Frauen\, 15:00 - 16:30 h\n\nKurs\, montags in: Firma Goal-EPMTS\
 , Wilhelmstr. 12\, 51143 Köln (Porz Markt)\, 14:00 – 15:30 h:\n\n 	Go D
 igital 2020\,\nErlernen der berufsbezogenen Fachwörter mit Hilfe einer mu
 ltimedialen und mehrsprachigen Datenbank zu folgenden Berufen / Branchen:\
 nMedizin\, Ingenieurwesen\, Kita\, Pflege\, Gastronomie\, Friseurin\, Beru
 fskraftfahrerin\, Handel.\nAn den ersten zwei Terminen wird die Arbeit mit
  Excel gelernt.\nZum Abschluss erhalten die Teilnehmerinnen eine Teilnahme
 bescheinigung.\nDer Kurs ist kostenlos.\nEr dauert vom 07.09.2020 bis 14.1
 2.2020.\n\nVeranstaltungen\, ungerade Montage 11.30 - 13.30 Uhr\, im Stadt
 teilzentrum Buchforst 1\, Eintritt frei\n\n 	Infoveranstaltungen zu neuen 
 Regelungen und Gesetzen für Flüchtlinge in Bezug auf (Aus)Bildung und Be
 ruf\n 	Infoveranstaltungen zu spezifischen deutschen Gesetzen für weiblic
 he Geflüchtete\n 	Workshops über Durchsetzung der Ziele und zur Motivati
 onsstärkung\n 	Trainings zur Bewerbung und zum Vorstellungsgespräch\n\nP
 ersönliche Beratung und Hilfeleistung bei(m):\n\n 	Alltagsproblemen und i
 m Umgang mit Behörden (Asyl\, aufenthaltsrechtliche Fragen)\n 	Vermittlun
 g von Bildungsangeboten\n 	Berufseinstieg (Lebenslauf erstellen\, Praktiku
 msplatzfindung\, Arbeitssuche\, Arbeitserlaubnis beantragen)\n 	Anerkennun
 g der Abschlüsse und Zeugnisse\n\nFlyer AKAD FM-FM Mai20 (pdf-Datei\, 225
  KB)\n\nVeranstalterin:\nArbeitsgruppe der Akademikerinnen in Menschenrech
 te-Einundzwanzig e.V.\, facebook.com/groups/akadfmfmenschenrechte21/\n\nAn
 sprechpartnerin:\nAfsar Soheila Sattari\, Tel.: 0178 / 6357200\, E-Mail: a
 .sattari@goal-epmts.de
END:VEVENT
BEGIN:VTIMEZONE
TZID:Europe/Berlin
X-LIC-LOCATION:Europe/Berlin
BEGIN:DAYLIGHT
DTSTART:20200329T030000
TZOFFSETFROM:+0100
TZOFFSETTO:+0200
TZNAME:CEST
END:DAYLIGHT
END:VTIMEZONE
END:VCALENDAR