BEGIN:VCALENDAR
VERSION:2.0
PRODID:-//wp-events-plugin.com//7.2.3.1//EN
TZID:Europe/Berlin
X-WR-TIMEZONE:Europe/Berlin
BEGIN:VEVENT
UID:5052@frauenportal.koeln
DTSTART;TZID=Europe/Berlin;VALUE=DATE:20240502
DTEND;TZID=Europe/Berlin;VALUE=DATE:20240503
DTSTAMP:20240502T080202Z
URL:https://frauenportal.koeln/veranstaltungen/kurse-workshops-und-beratun
 gen-von-akad-fm-fm-fuer-gefluechtete-frauen-und-migrantinnen-24/
SUMMARY:Kurse\, Workshops und Beratungen von AKAD FM-FM für geflüchtete F
 rauen und Migrantinnen
DESCRIPTION:Die Arbeitsgruppe AKAD FM-FM (AKADemikerinnen Flucht/ Migration
  Frauen/ Mädchen) von Menschenrechte-Einundzwanzig e.V. und NUT e.V. (Fra
 uen in Naturwissenschaft und Technik e.V.) bietet allen Migrantinnen und g
 eflüchteten Frauen\, insbesondere mit akademischem Hintergrund\, folgende
  Möglichkeiten an:\n\n\n 	montags\, 14.00 – 15.30 Uhr\, online\nKonvers
 ationskurs auf B1-B2-Niveau\n\n\n 	montags\, 18.00 – 19.30 Uhr\, online\
 nA1-Deutschkurs für Frauen\n\n&nbsp\;\n\n 	dienstags\, 13.45 – 15.45 Uh
 r\nSelbstfindungs- und Meditationskurs\nOrt: Demokratiespace\, Kalker Haup
 tstr. 170 – 51103 Köln\n\n\n\n 	dienstags\, 15.30 – 17.00 Uhr\nBastel
 - und Malkurs für Kinder\nOrt: Parea Gemeinschaftsraum\, Josefstr. 64 - 5
 1143 Köln (Porz Markt)\n\n\n\n 	dienstags\, 18.00 – 19.30 Uhr\, online\
 nA0-Deutschkurs für Frauen\n\n&nbsp\;\n\n 	mittwochs\, 18.00 – 19.30 Uh
 r\, online\nKonversationskurs auf A1-A2-Niveau\n\n&nbsp\;\n \n 	donnerstag
 s\, 13.00  –  14.45 Uhr\nDeutschkurs A0\nOrt: Jugendzentrum Glashütte
 \, Glashüttenstr. 20 - 51143 Köln (Porz Markt)\n\n\n\n 	donnerstags\, 13
 .00 – 14.45 Uhr\, online\nDeutschkurs B1\n\n\n\n 	donnerstags\, 14.00  
 –  15.30 Uhr\nTischtennis-Kurs\nOrt: Jugendzentrum Glashütte\, Glashü
 ttenstr. 20 - 51143 Köln (Porz Markt)\n\n\n\n 	donnerstags\, 15.00  –
   17.00 Uhr\nFamilienberatung\nOrt: Jugendzentrum Glashütte\, Glashütte
 nstr. 20 - 51143 Köln (Porz Markt)\n\n&nbsp\;\n\n 	freitags\, 9.00 – 11
 .00 Uhr\nDeutschkurs A1 für Ukrainerinnen\nOrt: Loorweg 140 – 51143 Kö
 ln\n\n&nbsp\;\nBewerbungscoaching\nund Karrierecoaching für die beruflich
 e Weiterentwicklung\nTeil 1: Anschreiben und Lebenslauf\nReferent: Kaveh A
 nsarian\nDonnerstag\, 16.05.2024\, 16.00 – 17.30 Uhr\nOrt: Jugendzentrum
  Glashütte\, Glashüttenstr. 20 - 51143 Köln (Porz Markt)\n&nbsp\;\n\n 	
 Vortragsreihe\nvon AKAD FM-FM und Frauen in Naturwissenschaft und Technik 
 NUT e. V. über "Lebensläufe und Gesellschaftsentwürfe: einheimische und
  immigrierte Akademikerinnen berichten"\njeden 3. Mittwoch im Monat\, 18.0
 0 - 19.30 Uhr\, online\nAm 15.05.2024 spricht die ausgebildete Gymnasialle
 hrerin Marlene Potthoff.\n\n&nbsp\;\nLesekreis\nMittwoch\, 29.05.2024\, 19
 .30 – 21.00 Uhr\, online\n&nbsp\;\nVeranstalterin:\nArbeitsgruppe der Ak
 ademikerinnen in Menschenrechte-Einundzwanzig e.V.\, https://akadfmfm-mens
 chenrechte21ev.com\n\nAnsprechpartnerin:\nAfsar Soheila Sattari\, Tel.: 01
 78 / 6357200\, E-Mail: a.sattari@goal-epmts.de
END:VEVENT
BEGIN:VTIMEZONE
TZID:Europe/Berlin
X-LIC-LOCATION:Europe/Berlin
BEGIN:DAYLIGHT
DTSTART:20240331T030000
TZOFFSETFROM:+0100
TZOFFSETTO:+0200
TZNAME:CEST
END:DAYLIGHT
END:VTIMEZONE
END:VCALENDAR