BEGIN:VCALENDAR
VERSION:2.0
PRODID:-//wp-events-plugin.com//7.2.3.1//EN
TZID:Europe/Berlin
X-WR-TIMEZONE:Europe/Berlin
BEGIN:VEVENT
UID:5517@frauenportal.koeln
DTSTART;TZID=Europe/Berlin;VALUE=DATE:20250102
DTEND;TZID=Europe/Berlin;VALUE=DATE:20250103
DTSTAMP:20241230T154319Z
URL:https://frauenportal.koeln/veranstaltungen/kurse-workshops-und-beratun
 gen-von-akad-fm-fm-fuer-gefluechtete-frauen-und-migrantinnen-32/
SUMMARY:Kurse\, Workshops und Beratungen von AKAD FM-FM für geflüchtete F
 rauen und Migrantinnen
DESCRIPTION:Die Arbeitsgruppe AKAD FM-FM (AKADemikerinnen Flucht/ Migration
  Frauen/ Mädchen) von Menschenrechte-Einundzwanzig e.V. und NUT e.V. (Fra
 uen in Naturwissenschaft und Technik e.V.) bietet allen Migrantinnen und g
 eflüchteten Frauen\, insbesondere mit akademischem Hintergrund\, folgende
  Möglichkeiten an:\n&nbsp\;\n\n 	montags\, 11.00 – 12.30 Uhr\, online\n
 Konversationskurs auf B1-B2-Niveau\n\n\n 	montags\, 18.00 – 19.30 Uhr\, 
 online\nA1-Deutschkurs für Frauen\n\n&nbsp\;\n\n 	dienstags\, 10.00 – 1
 1.30 Uhr\, online\nA1-Grammatikkurs\n\n\n 	dienstags\, 13.45 – 15.45 Uhr
 \nSelbstfindungs- und Meditationskurs\nOrt: Demokratiespace\, Kalker Haupt
 str. 170 – 51103 Köln\n\n\n 	dienstags\, 15.30 – 17.00 Uhr\nBastel- u
 nd Malkurs für Kinder\nOrt: Parea\, Josefstr. 64 - 51143 Köln (Porz Mark
 t)\n\n\n 	dienstags\, 16.00 – 17.30 Uhr\nKunst-Workshop\nOrt: Parea\, Jo
 sefstr. 64 - 51143 Köln (Porz Markt)\n\n\n 	dienstags\, 18.00 – 19.30 U
 hr\, online\nA0-Deutschkurs für Frauen\n\n&nbsp\;\n\n 	mittwochs\, 15.00 
 – 16.30 Uhr\, online\nKonversationskurs auf A1-Niveau\n\n\n 	mittwochs\,
  18.00 – 19.30 Uhr\, online\nKonversationskurs auf A1-A2-Niveau\n\n&nbsp
 \;\n\n 	donnerstags\, 13.00  –  14.45 Uhr\nDeutschkurs A0\nOrt: Jugend
 zentrum Glashütte\, Glashüttenstr. 20 - 51143 Köln (Porz Markt)\n\n\n 	
 donnerstags\, 13.00 – 14.45 Uhr\, online\nDeutschkurs B1\n\n\n 	donnerst
 ags\, 14.00  –  15.30 Uhr\nTischtennis-Kurs\nOrt: Jugendzentrum Glash
 ütte\, Glashüttenstr. 20 - 51143 Köln (Porz Markt)\n\n\n 	donnerstags\,
  15.00  –  17.00 Uhr\nFamilienberatung\nOrt: Jugendzentrum Glashütte\
 , Glashüttenstr. 20 - 51143 Köln (Porz Markt)\n\n&nbsp\;\n\n 	donnerstag
 s\, 16.00  –  17.30 Uhr\, online\nGo Digital-Kurs\nzum Erlernen der be
 rufsbezogenen Fachwörter in 14 Berufsfeldern\n\n&nbsp\;\n\n 	freitags\, 9
 .00 – 11.00 Uhr\nDeutschkurs A1 für Ukrainerinnen\nOrt: Loorweg 140 –
  51143 Köln\n\n&nbsp\;\n\n 	MINT-Arbeitskreis\njeden 1. Montag im Monat\,
  18.00 – 19.30 Uhr\, online\n\n&nbsp\;\n\n 	Vortragsreihe\nvon AKAD FM-F
 M und Frauen in Naturwissenschaft und Technik NUT e. V. über "Lebensläuf
 e und Gesellschaftsentwürfe: einheimische und immigrierte Akademikerinnen
  berichten"\njeden 3. Mittwoch im Monat\, 18.00 - 19.30 Uhr\, online\n\n&n
 bsp\;\n\n 	Lesekreis\njeden 3. Mittwoch im Monat\, 19.30 – 21.00 Uhr\, o
 nline\n\n&nbsp\;\nVeranstalterin:\nArbeitsgruppe der Akademikerinnen in Me
 nschenrechte-Einundzwanzig e.V.\, https://akadfmfm-menschenrechte21ev.com\
 n\nAnsprechpartnerin:\nAfsar Soheila Sattari\, Tel.: 0178 / 6357200\, E-Ma
 il: a.sattari@goal-epmts.de
END:VEVENT
BEGIN:VTIMEZONE
TZID:Europe/Berlin
X-LIC-LOCATION:Europe/Berlin
BEGIN:STANDARD
DTSTART:20241027T020000
TZOFFSETFROM:+0200
TZOFFSETTO:+0100
TZNAME:CET
END:STANDARD
END:VTIMEZONE
END:VCALENDAR