BEGIN:VCALENDAR
VERSION:2.0
PRODID:-//wp-events-plugin.com//7.2.3.1//EN
TZID:Europe/Berlin
X-WR-TIMEZONE:Europe/Berlin
BEGIN:VEVENT
UID:6183@frauenportal.koeln
DTSTART;TZID=Europe/Berlin;VALUE=DATE:20260401
DTEND;TZID=Europe/Berlin;VALUE=DATE:20260402
DTSTAMP:20260401T081807Z
URL:https://frauenportal.koeln/veranstaltungen/kurse-workshops-und-beratun
 gen-von-akad-fm-fm-fuer-gefluechtete-frauen-und-migrantinnen-46/
SUMMARY:Kurse\, Workshops und Beratungen von AKAD FM-FM für geflüchtete F
 rauen und Migrantinnen
DESCRIPTION:Die Arbeitsgruppe AKAD FM-FM (AKADemikerinnen Flucht/ Migration
  Frauen/ Mädchen) von Menschenrechte-Einundzwanzig e.V. und NUT e.V. (Fra
 uen in Naturwissenschaft und Technik e.V.) bietet allen Migrantinnen und g
 eflüchteten Frauen\, insbesondere mit akademischem Hintergrund\, folgende
  Möglichkeiten an:\n&nbsp\;\n\n 	montags\, 11.00 – 12.30 Uhr\, online\n
 Konversationskurs auf B1-B2-Niveau\n\n\n 	montags\, 13.00 – 16.00 Uhr\n
 Ölmalerei-Kurs für Frauen \nOrt: Allerweltshaus Köln\, Geisselstr. 3-5\
 , 50823 Köln \n\n\n 	montags\, 18.00 – 19.30 Uhr\, online\nA1-Deutschku
 rs\n\n&nbsp\;\n\ndienstags\, 18.00 – 19.00 Uhr\, online\n        MINT-Ar
 beitskeis\n\n\n 	dienstags\, 18.00 – 19.30 Uhr\, online\nA0-Deutschkurs\
 n\n&nbsp\;\n\n 	mittwochs\, 12.00 – 13.30 Uhr\, online\nKonversationskur
 s auf A1-A2-Niveau\n\n&nbsp\;\n\n 	donnerstags\, 12.00  –  13.30 Uhr\,
  online\nDeutschkurs B1\n\n\n 	donnerstags\, 13.00  –  15.00 Uhr\nDeut
 schkurs A0\nOrt: Wilhelmstr. 12 – 51143 Köln (Porz Markt)\n\n\n 	donner
 stags\, 14.00  –  15.30 Uhr\nTischtennis-Kurs\nOrt: Jugendzentrum Glas
 hütte\, Glashüttenstr. 20 - 51143 Köln (Porz Markt)\n\n\n 	donnerstags\
 , 15.00  –  17.00 Uhr\nFamilienberatung\nOrt: Wilhelmstr. 12 - 51143 K
 öln (Porz Markt)\n\n&nbsp\;\n\n 	Film AG\njeden 1. Mittwoch im Monat\, 19
 .30 – 21.00 Uhr\, online\n\n&nbsp\;\n\n 	Literarischer Schreibwerkstatt\
 njeden 3. Mittwoch im Monat\, 19.30 – 21.00 Uhr\, online\n\n&nbsp\;\n\n 
 	Schreib- und Malkurs für Senior*innen \nSamstag\, 04.04.2026\, 15.00 - 1
 6.30 Uhr\nSamstag\, 18.04.2026\, 15.00 - 16.30 Uhr\nOrt: Wilhelmstr. 12 - 
 51143 Köln (Porz Markt)\n\n&nbsp\;\nVeranstalterin:\nArbeitsgruppe der Ak
 ademikerinnen in Menschenrechte-Einundzwanzig e.V.\, https://akadfmfm-mens
 chenrechte21ev.com\n\nAnsprechpartnerin:\nAfsar Soheila Sattari\, Tel.: 01
 78 / 6357200\, E-Mail: sattari@akadfmfm-menschenrechte21ev.com
END:VEVENT
BEGIN:VTIMEZONE
TZID:Europe/Berlin
X-LIC-LOCATION:Europe/Berlin
BEGIN:DAYLIGHT
DTSTART:20260329T030000
TZOFFSETFROM:+0100
TZOFFSETTO:+0200
TZNAME:CEST
END:DAYLIGHT
END:VTIMEZONE
END:VCALENDAR