BEGIN:VCALENDAR
VERSION:2.0
PRODID:-//wp-events-plugin.com//7.2.3.1//EN
TZID:Europe/Berlin
X-WR-TIMEZONE:Europe/Berlin
BEGIN:VEVENT
UID:4331@frauenportal.koeln
DTSTART;TZID=Europe/Berlin:20230629T200000
DTEND;TZID=Europe/Berlin:20230629T220000
DTSTAMP:20230629T085831Z
URL:https://frauenportal.koeln/veranstaltungen/kurzfilmabend-bilder-der-fr
 eiheit-iranischer-filmabend/
SUMMARY:Kurzfilmabend - Bilder der Freiheit (Iranischer Filmabend)
DESCRIPTION:Mit einer kleinen Veranstaltungsreihe will das Allerweltshaus K
 öln einen Blick auf die Geschehnisse und Hintergründe der Situation im I
 ran werfen und die feministische Revolution auch Monate nach Beginn im Bew
 usstsein der Öffentlichkeit halten.\n\nAus der Perspektive iranischer Fil
 memacherinnen. Ein Kurzfilmabend\, kuratiert von Ghasideh Golmakani\, als 
 Open-Air-Kino in im Allerweltshof.\n\nImmer mehr Iranerinnen formulieren i
 hre Themen und ihre Weltsicht in filmischer Form – darunter viele Anlieg
 en\, die aktuell von den Protestierenden getragen werden.\n\nIm Bereich de
 s Animations-\, Dokumentar-\, Experimental-\, und Spielfilms sind weltweit
  ca. 1400 iranische Regisseurinnen aktiv. „Der Wunsch nach Ausdruck\, de
 r Kampf gegen Unterdrückung und das Bedürfnis\, eine Botschaft zu vermit
 teln\, sind Gründe für dieses Wachstum. Doch warum sind männliche Filme
 macher noch immer präsenter?"\, so fragt Ghasideh Golmakani\, die für da
 s iranische Filmfestival mehrere Programme kuratiert hat.\n\nSeit Septembe
 r 2022 wehrt sich im Iran die Zivilgesellschaft\, allen voran Frauen\, geg
 en ein unmenschliches\, unterdrückerisches Regime.\n\nDie Regisseurin und
  Produzentin Ghasideh Golmakani kennt die Situation iranischer Filmemacher
 innen und hat eine Auswahl an Kurzfilmen von ihnen aus dem Iran zusammenge
 stellt\, um Einsicht in eine Gesellschaft zu ermöglichen\, die neben und 
 in ihrem Alltag für mehr Demokratie und Gerechtigkeit kämpft und die Hof
 fnung nicht verliert.\n\nProgramm:\n\n\n	Hanged\, 15 min\n\n\n	Horn\, 8 mi
 n\n\n\n	Tangle\, 7 min\n\n\n	Left’Over\, 5 min\n\n\n	Moment and Forever\
 , 2 min\n\n\n	The Toaster I Used to Live in\, 7 min\n\n\n	Taxi is Here\, 1
 5 min\n\n\n	Report on a termination\, 15 min\n\n\n	Icky\, 5 min\n\n\nAlle 
 Filme werden auf Persisch mit deutschen Untertiteln gezeigt.\nAnschließen
 d: Podiumsgespräch mit Ghasideh Golmakani und Amin Farzanefar.\n\nVeranst
 alterin:\nAllerweltshaus e.V.\, www.allerweltshaus.de\nVISIONS OF IRAN / I
 ranian Film Festival Cologne\nIranisch-deutscher Frauenverein e.V.\, Köln
 \nFree Human\, www.instagram.com/free_human__/\n\nKosten / Anmeldung:\nDer
  Eintritt ist frei\, Spenden willkommen.
LOCATION:Allerweltshaus\, Geisselstr. 3-5\, 50823 Köln
GEO:50.947052;6.920585
X-APPLE-STRUCTURED-LOCATION;VALUE=URI;X-ADDRESS=Geisselstr. 3-5\, Köln\, N
 ordrhein-Westfalen\, 50823\, Veranstaltungsort\, Deutschland;X-APPLE-RADIU
 S=100;X-TITLE=Allerweltshaus:geo:50.947052,6.920585
END:VEVENT
BEGIN:VTIMEZONE
TZID:Europe/Berlin
X-LIC-LOCATION:Europe/Berlin
BEGIN:DAYLIGHT
DTSTART:20230326T030000
TZOFFSETFROM:+0100
TZOFFSETTO:+0200
TZNAME:CEST
END:DAYLIGHT
END:VTIMEZONE
END:VCALENDAR