BEGIN:VCALENDAR
VERSION:2.0
PRODID:-//wp-events-plugin.com//7.2.3.1//EN
TZID:Europe/Berlin
X-WR-TIMEZONE:Europe/Berlin
BEGIN:VEVENT
UID:5834@frauenportal.koeln
DTSTART;TZID=Europe/Berlin:20251128T170000
DTEND;TZID=Europe/Berlin:20251128T190000
DTSTAMP:20251031T131824Z
URL:https://frauenportal.koeln/veranstaltungen/lach-yoga-lachen-gegen-den-
 november-blues/
SUMMARY:Lach-Yoga: Lachen gegen den November-Blues
DESCRIPTION:Lachen lässt Glückshormone steigen und reduziert nachweislich
  Stress. Dabei unterscheidet der Körper nicht zwischen spontanem und herb
 eigeführtem Lachen. In diesem Kurs werden die Teilnehmenden durch eine Ko
 mbination von Körperbewegung\, Atemübung\, Spiel und Selbstbekräftigung
  zum Lachen angeregt und von der Kraft des gemeinsamen Lachens angesteckt.
  Der Kurs führt ein in die Grundlagen des Lachyogas und seine positiven A
 uswirkungen auf die körperliche und geistige Gesundheit sowie das soziale
  Miteinander.\n\nLachyoga kann unabhängig von Alter oder Fitnesslevel pra
 ktiziert werden. Alle können von den Vorteilen des Lachyogas profitieren 
 und Stimmungsverbesserungen sowie mehr Freude und Gelassenheit in den Allt
 ag mitnehmen.\n \nReferentin:\nGudrun Haep\, Sozialpädagogin\, Ausbildung
  zur Lachyoga-Leiterin\n\nVeranstalterin:\nBeginen Köln e.V.\n\nAnsprechp
 artnerin:\nChristine Müthrath\, Tel.: 0221 / 9655820\, E-Mail: info@begin
 en.de\n\nKosten:\nKostenbeitrag: 12\,- € / 10\,- €. (Ermäßigte Beitr
 äge gelten für Vereinsfrauen und Kölnpass-InhaberInnen)\nAnmeldungen un
 ter: info@beginen.de
LOCATION:Beginenhof Köln\, Unter Linden 119\, 50859 Köln
GEO:50.9636513;6.8421158
X-APPLE-STRUCTURED-LOCATION;VALUE=URI;X-ADDRESS=Unter Linden 119\, Köln\, 
 50859\, Veranstaltungsort\, Deutschland;X-APPLE-RADIUS=100;X-TITLE=Beginen
 hof Köln:geo:50.9636513,6.8421158
END:VEVENT
BEGIN:VTIMEZONE
TZID:Europe/Berlin
X-LIC-LOCATION:Europe/Berlin
BEGIN:STANDARD
DTSTART:20251026T020000
TZOFFSETFROM:+0200
TZOFFSETTO:+0100
TZNAME:CET
END:STANDARD
END:VTIMEZONE
END:VCALENDAR