BEGIN:VCALENDAR
VERSION:2.0
PRODID:-//wp-events-plugin.com//7.2.3.1//EN
TZID:Europe/Berlin
X-WR-TIMEZONE:Europe/Berlin
BEGIN:VEVENT
UID:3985@frauenportal.koeln
DTSTART;TZID=Europe/Berlin:20230207T200000
DTEND;TZID=Europe/Berlin:20230207T230000
DTSTAMP:20230131T143735Z
URL:https://frauenportal.koeln/veranstaltungen/ladyjam-10/
SUMMARY:LadyJam
DESCRIPTION:– Offenes Singen –\n\nmit Ursula Cuesta\, der Dozentin für
  Gesang des FMCK. Sie bringt ein paar einfache Songs mit\, die sind schnel
 l gelernt und dann geht’s los: Gemeinsam singen! Einfach so! Weil’s Sp
 aß macht! Und gut tut! \n\nNach dem letzten Akkord des Openers ist die B
 ühne frei für alle weiteren Musikerinnen. Der Frauenmusikclub Köln freu
 t sich auf ein vertontes Gedicht\, die Coverversion eines Popsongs\, einen
  Blues am Klavier oder einen Saxophonsound zu einem Jazzstandard ... - all
 e Stilrichtungen und Instrumente sind willkommen!\n\nDer Frauenmusikclub K
 öln sorgt für ein kooperatives Miteinander auf der Bühne und unterstüt
 zt mit Technik und bei Bedarf auch musikalisch - sowohl die Fraktion "Nich
 t ohne meine Noten"\, aber auch die improvisatorischen Freigeister. Es wä
 re doch zu schade\, wenn die musikalische Schätze nur im Proberaum zu hö
 ren wären!\n\nAnmeldungen für den Jam-Teil bitte unter: info@fmck.de\n\n
 Veranstalterin:\nFrauenmusikclub Köln e.V.\n\nKontakt:\nTel.: 0221 / 5 10
  23 28\, E-Mail: info@fmck.de\n\nKosten / Anmeldung:\nDer Eintritt ist fre
 i\; um Spenden für die Opener-Musikerinnen wird gebeten. Einlass ab 19.30
  Uhr.
LOCATION:FIFFI BAR\, Severinswall 35\, 50678 Köln
GEO:50.9227747;6.9622788000000355
X-APPLE-STRUCTURED-LOCATION;VALUE=URI;X-ADDRESS=Severinswall 35\, Köln\, 5
 0678\, Veranstaltungsort\, Deutschland;X-APPLE-RADIUS=100;X-TITLE=FIFFI BA
 R:geo:50.9227747,6.9622788000000355
END:VEVENT
BEGIN:VTIMEZONE
TZID:Europe/Berlin
X-LIC-LOCATION:Europe/Berlin
BEGIN:STANDARD
DTSTART:20221030T020000
TZOFFSETFROM:+0200
TZOFFSETTO:+0100
TZNAME:CET
END:STANDARD
END:VTIMEZONE
END:VCALENDAR