BEGIN:VCALENDAR
VERSION:2.0
PRODID:-//wp-events-plugin.com//7.2.3.1//EN
TZID:Europe/Berlin
X-WR-TIMEZONE:Europe/Berlin
BEGIN:VEVENT
UID:4703@frauenportal.koeln
DTSTART;TZID=Europe/Berlin:20240305T200000
DTEND;TZID=Europe/Berlin:20240305T230000
DTSTAMP:20240228T110838Z
URL:https://frauenportal.koeln/veranstaltungen/ladyjam-16/
SUMMARY:LadyJam
DESCRIPTION:Diesmal als Opener “Elva”\, das sind Karin (Gesang) und Bri
 tta (Gitarre)\, die ein buntes Programm aus gecovertem Rock und Pop präse
 ntieren.  \n\nNach dem letzten Akkord des Openers ist die Bühne frei für
  alle weiteren Musikerinnen. Der Frauenmusikclub Köln freut sich auf ein 
 vertontes Gedicht\, die Coverversion eines Popsongs\, einen Blues am Klavi
 er oder einen Saxophonsound zu einem Jazzstandard ... - alle Stilrichtunge
 n und Instrumente sind willkommen!\n\nDer Frauenmusikclub Köln sorgt für
  ein kooperatives Miteinander auf der Bühne und unterstützt mit Technik 
 und bei Bedarf auch musikalisch - sowohl die Fraktion "Nicht ohne meine No
 ten"\, aber auch die improvisatorischen Freigeister. Es wäre doch zu scha
 de\, wenn die musikalische Schätze nur im Proberaum zu hören wären!\n\n
 Anmeldungen für die Lady Jam (offene Bühne) bitte per Mail an Britta: la
 dyjam@fmck.de\n\nVeranstalterin:\nFrauenmusikclub Köln e.V.\n\nKontakt:\n
 Tel.: 0221 / 5 10 23 28\, E-Mail: info@fmck.de\n\nKosten / Anmeldung:\nDer
  Eintritt ist frei\; um Spenden für die Opener-Musikerinnen wird gebeten.
  Einlass ab 19.30 Uhr.
LOCATION:FIFFI BAR\, Severinswall 35\, 50678 Köln
GEO:50.9227747;6.9622788000000355
X-APPLE-STRUCTURED-LOCATION;VALUE=URI;X-ADDRESS=Severinswall 35\, Köln\, 5
 0678\, Veranstaltungsort\, Deutschland;X-APPLE-RADIUS=100;X-TITLE=FIFFI BA
 R:geo:50.9227747,6.9622788000000355
END:VEVENT
BEGIN:VTIMEZONE
TZID:Europe/Berlin
X-LIC-LOCATION:Europe/Berlin
BEGIN:STANDARD
DTSTART:20231029T020000
TZOFFSETFROM:+0200
TZOFFSETTO:+0100
TZNAME:CET
END:STANDARD
END:VTIMEZONE
END:VCALENDAR