BEGIN:VCALENDAR
VERSION:2.0
PRODID:-//wp-events-plugin.com//7.2.3.1//EN
TZID:Europe/Berlin
X-WR-TIMEZONE:Europe/Berlin
BEGIN:VEVENT
UID:3375@frauenportal.koeln
DTSTART;TZID=Europe/Berlin:20211101T200000
DTEND;TZID=Europe/Berlin:20211101T230000
DTSTAMP:20211019T075251Z
URL:https://frauenportal.koeln/veranstaltungen/ladyjam-2/
SUMMARY:LadyJam
DESCRIPTION:– Ladies on Stage –\n\nDiesmal als Opener:\n \nSOUND THERAP
 Y\nDie Bands des FMCK präsentiert sich in völlig neuem Gewand.\nBezauber
 nde und wunderschöne neue Songs in kleiner Besetzung.\n\nNach dem letzten
  Akkord des Openers ist die Bühne frei für alle weiteren Musikerinnen. D
 er Frauenmusikclub Köln freut sich auf ein vertontes Gedicht\, die Coverv
 ersion eines Popsongs\, einen Blues am Klavier oder einen Saxophonsound zu
  einem Jazzstandard ... - alle Stilrichtungen und Instrumente sind willkom
 men!\n\nDer Frauenmusikclub Köln sorgt für ein kooperatives Miteinander 
 auf der Bühne und unterstützt mit Technik und bei Bedarf auch musikalisc
 h - sowohl die Fraktion "Nicht ohne meine Noten"\, aber auch die improvisa
 torischen Freigeister. Es wäre doch zu schade\, wenn die musikalische Sch
 ätze nur im Proberaum zu hören wären!\n\nAnmeldungen für den Jam-Teil 
 bitte unter: info@fmck.de\n\nVeranstalterin:\nFrauenmusikclub Köln e.V.\n
 \nKontakt:\nTel.: 0221 / 5 10 23 28\, E-Mail: info@fmck.de\n\nKosten / Anm
 eldung:\nDer Eintritt ist frei\; um Spenden für die Opener-Musikerinnen w
 ird gebeten.\nWegen begrentzer Platzzahl wird um Anmeldung gebeten per Mai
 l unter: info@fmck.de\nZutritt nur für Geimpfte\, Genesene oder Menschen 
 mit einem Antigen-Schnelltest (maximal 24 Stunden alt) oder einen PCR-Test
  (maximal 48 Stunden alt). Ausgenommen sind Kinder unter 6 Jahren. Für Sc
 hulkinder gilt der Schüler*innenausweis. Außerdem müssen die Kontaktdat
 en aufgenommen werden.\n\nVeranstaltungsort:\nFIFFI BAR\, Severinswall 35\
 , 50678 Köln\, [map id=13259]
END:VEVENT
BEGIN:VTIMEZONE
TZID:Europe/Berlin
X-LIC-LOCATION:Europe/Berlin
BEGIN:STANDARD
DTSTART:20211031T020000
TZOFFSETFROM:+0200
TZOFFSETTO:+0100
TZNAME:CET
END:STANDARD
END:VTIMEZONE
END:VCALENDAR