BEGIN:VCALENDAR
VERSION:2.0
PRODID:-//wp-events-plugin.com//7.2.3.1//EN
TZID:Europe/Berlin
X-WR-TIMEZONE:Europe/Berlin
BEGIN:VEVENT
UID:2438@frauenportal.koeln
DTSTART;TZID=Europe/Berlin:20191202T200000
DTEND;TZID=Europe/Berlin:20191202T230000
DTSTAMP:20191104T112456Z
URL:https://frauenportal.koeln/veranstaltungen/ladyjam-2019-12-02/
SUMMARY:LadyJam
DESCRIPTION:Ladies on Stage\n\nNach dem letzten Akkord des Openers ist die 
 Bühne frei für alle weiteren Musikerinnen. Der Frauenmusikclub Köln fre
 ut sich auf ein vertontes Gedicht\, die Coverversion eines Popsongs\, eine
 n Blues am Klavier oder einen Saxophonsound zu einem Jazzstandard ... - al
 le Stilrichtungen und Instrumente sind willkommen!\n\nDer Frauenmusikclub 
 Köln sorgt für ein kooperatives Miteinander auf der Bühne und unterstü
 tzt mit Technik und bei Bedarf auch musikalisch - sowohl die Fraktion "Nic
 ht ohne meine Noten"\, aber auch die improvisatorischen Freigeister. Es w
 äre doch zu schade\, wenn die musikalische Schätze nur im Proberaum zu h
 ören wären!\n\nDas Programm\n\nDas Programm mit Opener und Jam-Beiträge
 n soll interessant und abwechslungsreich\, die Pausen dagegen sollen so ku
 rz wie möglich sein. Wer also auf der nächsten Lady Jam auf die Bühne m
 öchte und dafür Unterstützung braucht\, kann sich gerne anmelden. Spont
 ane "Bühnenstürmerinnen" sind aber ebenfalls willkommen.\n\nVeranstalter
 in:\nFrauenmusikclub Köln e.V.\n\nKontakt:\nTel.: 0221 / 5 10 23 28\, E-M
 ail: info@fmck.de\n\nKosten / Anmeldung:\nDer Eintritt ist frei\; um Spend
 en für die Opener-Musikerinnen wird gebeten.\n\nVeranstaltungsort:\nFIFFI
  BAR\, Severinswall 35\, 50678 Köln\, [map id=13259]
END:VEVENT
BEGIN:VTIMEZONE
TZID:Europe/Berlin
X-LIC-LOCATION:Europe/Berlin
BEGIN:STANDARD
DTSTART:20191027T020000
TZOFFSETFROM:+0200
TZOFFSETTO:+0100
TZNAME:CET
END:STANDARD
END:VTIMEZONE
END:VCALENDAR