BEGIN:VCALENDAR
VERSION:2.0
PRODID:-//wp-events-plugin.com//7.2.3.1//EN
TZID:Europe/Berlin
X-WR-TIMEZONE:Europe/Berlin
BEGIN:VEVENT
UID:2441@frauenportal.koeln
DTSTART;TZID=Europe/Berlin:20200302T200000
DTEND;TZID=Europe/Berlin:20200302T230000
DTSTAMP:20200229T155316Z
URL:https://frauenportal.koeln/veranstaltungen/ladyjam-2020-03-02/
SUMMARY:LadyJam
DESCRIPTION:Ladies on Stage\n\nDiesmal als Opener:\n \nELLIPSIS\nMelodiös\
 , mitreißend\, verführerisch\, kurios... minimales Trio\, ohne minimalis
 tisch zu sein.\n"Coversongs\, wie du sie nicht erwartest!"\nDörte Fedders
 en voc\, Dorcas Mallare dr\, Saila Simula b \n\nNach dem letzten Akkord de
 s Openers ist die Bühne frei für alle weiteren Musikerinnen. Der Frauenm
 usikclub Köln freut sich auf ein vertontes Gedicht\, die Coverversion ein
 es Popsongs\, einen Blues am Klavier oder einen Saxophonsound zu einem Jaz
 zstandard ... - alle Stilrichtungen und Instrumente sind willkommen!\n\nDe
 r Frauenmusikclub Köln sorgt für ein kooperatives Miteinander auf der B
 ühne und unterstützt mit Technik und bei Bedarf auch musikalisch - sowoh
 l die Fraktion "Nicht ohne meine Noten"\, aber auch die improvisatorischen
  Freigeister. Es wäre doch zu schade\, wenn die musikalische Schätze nur
  im Proberaum zu hören wären!\n\nDas Programm\n\nDas Programm mit Opener
  und Jam-Beiträgen soll interessant und abwechslungsreich\, die Pausen da
 gegen sollen so kurz wie möglich sein. Wer also auf der nächsten Lady Ja
 m auf die Bühne möchte und dafür Unterstützung braucht\, kann sich ger
 ne anmelden. Spontane "Bühnenstürmerinnen" sind aber ebenfalls willkomme
 n.\n\nVeranstalterin:\nFrauenmusikclub Köln e.V.\n\nKontakt:\nTel.: 0221 
 / 5 10 23 28\, E-Mail: info@fmck.de\n\nKosten / Anmeldung:\nDer Eintritt i
 st frei\; um Spenden für die Opener-Musikerinnen wird gebeten.\n\nVeranst
 altungsort:\nFIFFI BAR\, Severinswall 35\, 50678 Köln\, [map id=13259]
END:VEVENT
BEGIN:VTIMEZONE
TZID:Europe/Berlin
X-LIC-LOCATION:Europe/Berlin
BEGIN:STANDARD
DTSTART:20191027T020000
TZOFFSETFROM:+0200
TZOFFSETTO:+0100
TZNAME:CET
END:STANDARD
END:VTIMEZONE
END:VCALENDAR