BEGIN:VCALENDAR
VERSION:2.0
PRODID:-//wp-events-plugin.com//7.2.3.1//EN
TZID:Europe/Berlin
X-WR-TIMEZONE:Europe/Berlin
BEGIN:VEVENT
UID:2446@frauenportal.koeln
DTSTART;TZID=Europe/Berlin:20200803T200000
DTEND;TZID=Europe/Berlin:20200803T230000
DTSTAMP:20200730T141046Z
URL:https://frauenportal.koeln/veranstaltungen/ladyjam-2020-08-03/
SUMMARY:LadyJam
DESCRIPTION:Der Termin findet nicht statt.\n\nLadies on Stage\n\nNach dem l
 etzten Akkord des Openers ist die Bühne frei für alle weiteren Musikerin
 nen. Der Frauenmusikclub Köln freut sich auf ein vertontes Gedicht\, die 
 Coverversion eines Popsongs\, einen Blues am Klavier oder einen Saxophonso
 und zu einem Jazzstandard ... - alle Stilrichtungen und Instrumente sind w
 illkommen!\n\nDer Frauenmusikclub Köln sorgt für ein kooperatives Mitein
 ander auf der Bühne und unterstützt mit Technik und bei Bedarf auch musi
 kalisch - sowohl die Fraktion "Nicht ohne meine Noten"\, aber auch die imp
 rovisatorischen Freigeister. Es wäre doch zu schade\, wenn die musikalisc
 he Schätze nur im Proberaum zu hören wären!\n\nDas Programm\n\nDas Prog
 ramm mit Opener und Jam-Beiträgen soll interessant und abwechslungsreich\
 , die Pausen dagegen sollen so kurz wie möglich sein. Wer also auf der n
 ächsten Lady Jam auf die Bühne möchte und dafür Unterstützung braucht
 \, kann sich gerne anmelden. Spontane "Bühnenstürmerinnen" sind aber ebe
 nfalls willkommen.\n\nVeranstalterin:\nFrauenmusikclub Köln e.V.\n\nKonta
 kt:\nTel.: 0221 / 5 10 23 28\, E-Mail: info@fmck.de\n\nKosten / Anmeldung:
 \nDer Eintritt ist frei\; um Spenden für die Opener-Musikerinnen wird geb
 eten.\n\nVeranstaltungsort:\nFIFFI BAR\, Severinswall 35\, 50678 Köln\, [
 map id=13259]
END:VEVENT
BEGIN:VTIMEZONE
TZID:Europe/Berlin
X-LIC-LOCATION:Europe/Berlin
BEGIN:DAYLIGHT
DTSTART:20200329T030000
TZOFFSETFROM:+0100
TZOFFSETTO:+0200
TZNAME:CEST
END:DAYLIGHT
END:VTIMEZONE
END:VCALENDAR