BEGIN:VCALENDAR
VERSION:2.0
PRODID:-//wp-events-plugin.com//7.2.3.1//EN
TZID:Europe/Berlin
X-WR-TIMEZONE:Europe/Berlin
BEGIN:VEVENT
UID:5238@frauenportal.koeln
DTSTART;TZID=Europe/Berlin:20241105T200000
DTEND;TZID=Europe/Berlin:20241105T230000
DTSTAMP:20241105T152901Z
URL:https://frauenportal.koeln/veranstaltungen/ladyjam-22/
SUMMARY:LadyJam
DESCRIPTION:Der Termin findet nicht statt.mit Sound Therapie.\n\nEs ist zu 
 lange her\, und da es 2021 schonmal so schön war\, darf es gern mal wiede
 r sein!\n\nSound Therapie sind drei Stimmen mit Gitarre(n) und Piano. Das 
 durch den FMCK gecoachte Trio schreibt eigene Songs und covert. Dabei spie
 lt das Genre eine untergeordnete Rolle – die Band spielt Songs\, die ihr
  etwas bedeuten und die sich für die Besetzung gut arrangieren lassen. \n
 \nNach dem letzten Akkord des Openers ist die Bühne frei für alle weiter
 en Musikerinnen. Der Frauenmusikclub Köln freut sich auf ein vertontes Ge
 dicht\, die Coverversion eines Popsongs\, einen Blues am Klavier oder eine
 n Saxophonsound zu einem Jazzstandard ... - alle Stilrichtungen und Instru
 mente sind willkommen!\n\nDer Frauenmusikclub Köln sorgt für ein koopera
 tives Miteinander auf der Bühne und unterstützt mit Technik und bei Beda
 rf auch musikalisch - sowohl die Fraktion "Nicht ohne meine Noten"\, aber 
 auch die improvisatorischen Freigeister. Es wäre doch zu schade\, wenn di
 e musikalische Schätze nur im Proberaum zu hören wären!\n\nAnmeldungen 
 für die Lady Jam (offene Bühne) bitte per Mail an Britta: ladyjam@fmck.d
 e\n\nVeranstalterin:\nFrauenmusikclub Köln e.V.\n\nKontakt:\nTel.: 0221 /
  5 10 23 28\, E-Mail: info@fmck.de\n\nKosten / Anmeldung:\nDer Eintritt is
 t frei\; um Spenden für die Opener-Musikerinnen wird gebeten. Einlass ab 
 19.30 Uhr.
LOCATION:FIFFI BAR\, Severinswall 35\, 50678 Köln
GEO:50.9227747;6.9622788000000355
X-APPLE-STRUCTURED-LOCATION;VALUE=URI;X-ADDRESS=Severinswall 35\, Köln\, 5
 0678\, Veranstaltungsort\, Deutschland;X-APPLE-RADIUS=100;X-TITLE=FIFFI BA
 R:geo:50.9227747,6.9622788000000355
END:VEVENT
BEGIN:VTIMEZONE
TZID:Europe/Berlin
X-LIC-LOCATION:Europe/Berlin
BEGIN:STANDARD
DTSTART:20241027T020000
TZOFFSETFROM:+0200
TZOFFSETTO:+0100
TZNAME:CET
END:STANDARD
END:VTIMEZONE
END:VCALENDAR