BEGIN:VCALENDAR
VERSION:2.0
PRODID:-//wp-events-plugin.com//7.2.3.1//EN
TZID:Europe/Berlin
X-WR-TIMEZONE:Europe/Berlin
BEGIN:VEVENT
UID:1946@frauenportal.koeln
DTSTART;TZID=Europe/Berlin:20190603T200000
DTEND;TZID=Europe/Berlin:20190603T230000
DTSTAMP:20190531T105906Z
URL:https://frauenportal.koeln/veranstaltungen/ladyjam-in-concert-10/
SUMMARY:LadyJam! in concert
DESCRIPTION:Diesmal als Opener:\n \nKadlosh\n \n5 Frauen - 10 Instrumente -
  viele Ideen\n\n"Wir spielen was uns gefällt\, von fernen Balkanmelodien 
 bis hin zu französischen Chansons. Mit einer Vorliebe für krumme Takte u
 nd kreativer Lebendigkeit entwickeln wir unsere ganz eigene Version von sc
 hön-schräger Volksmusik."\n\nLadies on Stage\n\nNach dem letzten Akkord 
 des Openers ist die Bühne frei für alle weiteren Musikerinnen. Der Fraue
 nmusikclub Köln freut sich auf ein vertontes Gedicht\, die Coverversion e
 ines Popsongs\, einen Blues am Klavier oder einen Saxophonsound zu einem J
 azzstandard ... - alle Stilrichtungen und Instrumente sind willkommen!\n\n
 Der Frauenmusikclub Köln sorgt für ein kooperatives Miteinander auf der 
 Bühne und unterstützt mit Technik und bei Bedarf auch musikalisch - sowo
 hl die Fraktion "Nicht ohne meine Noten"\, aber auch die improvisatorische
 n Freigeister. Es wäre doch zu schade\, wenn die musikalische Schätze nu
 r im Proberaum zu hören wären!\n\nDas Programm\n\nDas Programm mit Opene
 r und Jam-Beiträgen soll interessant und abwechslungsreich\, die Pausen d
 agegen sollen so kurz wie möglich sein. Wer also auf der nächsten Lady J
 am auf die Bühne möchte und dafür Unterstützung braucht\, kann sich ge
 rne anmelden. Spontane "Bühnenstürmerinnen" sind aber ebenfalls willkomm
 en.\n\nVeranstalterin:\nFrauenmusikclub Köln e.V.\n\nKontakt:\nTel.: 0221
  / 5 10 23 28\, E-Mail: info@fmck.de\n\nKosten / Anmeldung:\nDer Eintritt 
 ist frei\; um Spenden für die Musikerinnen wird gebeten.\nAnmeldungen ger
 ne per Mail.\n\nVeranstaltungsort:\nFIFFI BAR\, Severinswall 35\, 50678 K
 öln\, [map id=13259]
END:VEVENT
BEGIN:VTIMEZONE
TZID:Europe/Berlin
X-LIC-LOCATION:Europe/Berlin
BEGIN:DAYLIGHT
DTSTART:20190331T030000
TZOFFSETFROM:+0100
TZOFFSETTO:+0200
TZNAME:CEST
END:DAYLIGHT
END:VTIMEZONE
END:VCALENDAR