BEGIN:VCALENDAR
VERSION:2.0
PRODID:-//wp-events-plugin.com//7.2.3.1//EN
TZID:Europe/Berlin
X-WR-TIMEZONE:Europe/Berlin
BEGIN:VEVENT
UID:2117@frauenportal.koeln
DTSTART;TZID=Europe/Berlin:20191007T200000
DTEND;TZID=Europe/Berlin:20191007T230000
DTSTAMP:20190930T141204Z
URL:https://frauenportal.koeln/veranstaltungen/ladyjam-in-concert-11/
SUMMARY:LadyJam! in concert
DESCRIPTION:Diesmal als Opener:\n \nJulika Elizabeth\n \nPop\, Melody Rock\
 n \nJulika Elizabeth ist eine junge Singer/ Songwriterfrau aus Düsseldorf
 .\nwww.facebook.com/Julika.Elizabeth/\n\nNach dem Opener ist die Bühne fr
 ei für alle Frauen\, Anmeldung bitte per Mail: info@fmck.de.\n\nLadies on
  Stage\n\nNach dem letzten Akkord des Openers ist die Bühne frei für all
 e weiteren Musikerinnen. Der Frauenmusikclub Köln freut sich auf ein vert
 ontes Gedicht\, die Coverversion eines Popsongs\, einen Blues am Klavier o
 der einen Saxophonsound zu einem Jazzstandard ... - alle Stilrichtungen un
 d Instrumente sind willkommen!\n\nDer Frauenmusikclub Köln sorgt für ein
  kooperatives Miteinander auf der Bühne und unterstützt mit Technik und 
 bei Bedarf auch musikalisch - sowohl die Fraktion "Nicht ohne meine Noten"
 \, aber auch die improvisatorischen Freigeister. Es wäre doch zu schade\,
  wenn die musikalische Schätze nur im Proberaum zu hören wären!\n\nDas 
 Programm\n\nDas Programm mit Opener und Jam-Beiträgen soll interessant un
 d abwechslungsreich\, die Pausen dagegen sollen so kurz wie möglich sein.
  Wer also auf der nächsten Lady Jam auf die Bühne möchte und dafür Unt
 erstützung braucht\, kann sich gerne anmelden. Spontane "Bühnenstürmeri
 nnen" sind aber ebenfalls willkommen.\n\nVeranstalterin:\nFrauenmusikclub 
 Köln e.V.\n\nKontakt:\nTel.: 0221 / 5 10 23 28\, E-Mail: info@fmck.de\n\n
 Kosten / Anmeldung:\nDer Eintritt ist frei\; um Spenden für die Musikerin
 nen wird gebeten.\nAnmeldungen gerne per Mail.\n\nVeranstaltungsort:\nFIFF
 I BAR\, Severinswall 35\, 50678 Köln\, [map id=13259]
END:VEVENT
BEGIN:VTIMEZONE
TZID:Europe/Berlin
X-LIC-LOCATION:Europe/Berlin
BEGIN:DAYLIGHT
DTSTART:20190331T030000
TZOFFSETFROM:+0100
TZOFFSETTO:+0200
TZNAME:CEST
END:DAYLIGHT
END:VTIMEZONE
END:VCALENDAR