BEGIN:VCALENDAR
VERSION:2.0
PRODID:-//wp-events-plugin.com//7.2.3.1//EN
TZID:Europe/Berlin
X-WR-TIMEZONE:Europe/Berlin
BEGIN:VEVENT
UID:1711@frauenportal.koeln
DTSTART;TZID=Europe/Berlin:20190107T200000
DTEND;TZID=Europe/Berlin:20190107T230000
DTSTAMP:20181230T111059Z
URL:https://frauenportal.koeln/veranstaltungen/ladyjam-in-concert-6/
SUMMARY:LadyJam! in concert
DESCRIPTION:Dieses Mal als Opener:\n\nAbends mit Beleuchtung\, www.abendsmi
 tbeleuchtung.de\n \nHoney\, Angel und Baby starten direkt frisch ins Neue 
 Jahr!\nSie sind gekommen um den Weihnachtsspeck abzuschütteln.\n\nLadies 
 on Stage\n\nNach dem letzten Akkord des Openers ist die Bühne frei für a
 lle weiteren Musikerinnen. Der Frauenmusikclub Köln freut sich auf ein ve
 rtontes Gedicht\, die Coverversion eines Popsongs\, einen Blues am Klavier
  oder einen Saxophonsound zu einem Jazzstandard ... - alle Stilrichtungen 
 und Instrumente sind willkommen!\n\nDer Frauenmusikclub Köln sorgt für e
 in kooperatives Miteinander auf der Bühne und unterstützt mit Technik un
 d bei Bedarf auch musikalisch - sowohl die Fraktion "Nicht ohne meine Note
 n"\, aber auch die improvisatorischen Freigeister. Es wäre doch zu schade
 \, wenn die musikalische Schätze nur im Proberaum zu hören wären!\n\nDa
 s Programm\n\nDas Programm mit Opener und Jam-Beiträgen soll interessant 
 und abwechslungsreich\, die Pausen dagegen sollen so kurz wie möglich sei
 n. Wer also auf der nächsten Lady Jam auf die Bühne möchte und dafür U
 nterstützung braucht\, kann sich gerne anmelden. Spontane "Bühnenstürme
 rinnen" sind aber ebenfalls willkommen.\n\nVeranstalterin:\nFrauenmusikclu
 b Köln e.V.\n\nKontakt:\nTel.: 0221 / 5 10 23 28\, E-Mail: info@fmck.de\n
 \nKosten / Anmeldung:\nDer Eintritt ist frei\; um Spenden für die Musiker
 innen wird gebeten.\n\nVeranstaltungsort:\nFIFFI BAR\, Severinswall 35\, 5
 0678 Köln\, [map id=13259]
END:VEVENT
BEGIN:VTIMEZONE
TZID:Europe/Berlin
X-LIC-LOCATION:Europe/Berlin
BEGIN:STANDARD
DTSTART:20181028T020000
TZOFFSETFROM:+0200
TZOFFSETTO:+0100
TZNAME:CET
END:STANDARD
END:VTIMEZONE
END:VCALENDAR