BEGIN:VCALENDAR
VERSION:2.0
PRODID:-//wp-events-plugin.com//7.2.3.1//EN
TZID:Europe/Berlin
X-WR-TIMEZONE:Europe/Berlin
BEGIN:VEVENT
UID:3897@frauenportal.koeln
DTSTART;TZID=Europe/Berlin:20221025T190000
DTEND;TZID=Europe/Berlin:20221025T203000
DTSTAMP:20220930T123145Z
URL:https://frauenportal.koeln/veranstaltungen/leben-glauben-krieg/
SUMMARY:Leben.Glauben.Krieg.
DESCRIPTION:Clubabend des KDFB DV Köln\n\nGesprächspartnerin an diesem Ab
 end ist Lidija Losova aus Kiew.\n\nVeranstalterin:\nKatholischer Deutscher
  Frauenbund\n\nAnmeldung:\nDie Einwahldaten für diese Zoom-Veranstaltung 
 erhalten Sie nach Ihrer Anmeldung. Ihre Anmeldung senden Sie bitte per E-M
 ail an kerstin.bause@frauenbund.de\n\nVeranstaltungsort:\nonline
END:VEVENT
BEGIN:VTIMEZONE
TZID:Europe/Berlin
X-LIC-LOCATION:Europe/Berlin
BEGIN:DAYLIGHT
DTSTART:20220327T030000
TZOFFSETFROM:+0100
TZOFFSETTO:+0200
TZNAME:CEST
END:DAYLIGHT
END:VTIMEZONE
END:VCALENDAR