BEGIN:VCALENDAR
VERSION:2.0
PRODID:-//wp-events-plugin.com//7.2.3.1//EN
TZID:Europe/Berlin
X-WR-TIMEZONE:Europe/Berlin
BEGIN:VEVENT
UID:1401@frauenportal.koeln
DTSTART;TZID=Europe/Berlin:20181117T110000
DTEND;TZID=Europe/Berlin:20181117T163000
DTSTAMP:20181031T183256Z
URL:https://frauenportal.koeln/veranstaltungen/lebensbuch-psalmen/
SUMMARY:Lebensbuch Psalmen
DESCRIPTION:Studientag\n\nNotschrei und Dank. Programm:\n\n11.00 – 13.00 
 Uhr\n1. Entstehung von Psalmen und Psalter\n2. Wesen und Bedeutung\n\n14.3
 0 – 16.30 Uhr\n3. Schreie in der Nacht\n4. Mystik in den Psalmen (Gesang
 : Estrongo Nachama)\n\nDie Psalmen\, dichterische Sprechgesänge\, gehöre
 n zu den großen Dichtungen der Weltliteratur. Beheimatet im Vorderen Orie
 nt\, entstanden sie in einem Zeitraum von mehreren von Tausenden von Jahre
 n. Der Psalter\, eine kleine Auswahl von 150 Psalmen\, ist ein einziger Me
 ditationstext. Klagepsalmen\, als ein Notschrei und Hadern mit Gott\, sind
  am meisten vertreten. Diese „Schrift der Lobpreisungen“ birgt kostbar
 e Zeugnisse mystischer Erfahrungen.\n\nReferentin:\nDr. Hortense Reintjens
 -Anwari\, Profil:\nDr. phil. Dipl. theol.\, Studium der Geschichte und Kul
 turanthropologie (Fokus: Vorderer und Mittlerer Orient) und Theologie (Fok
 us: Philosophische Anthropologie). Langjährige Lehrtätigkeit an der Univ
 ersität zu Köln. Zur Zeit Forschung und Seminare auf dem Gebiet der inte
 rkulturellen Philosophie und Spiritualität.\n\nVeranstalterin:\nBeginen K
 öln e.V.\n\nAnsprechpartnerin:\nChristine Müthrath\, Tel.: 0221 / 965582
 0\, E-Mail: info@beginen.de\n\nKosten:\nAnmeldung erforderlich. Kostenbeit
 rag auf Spendenbasis.\n\nVeranstaltungsort:\nBeginentreff im Beginenhof K
 öln\, Unter Linden 119\, 50859 Köln\, [map id=1048]
END:VEVENT
BEGIN:VTIMEZONE
TZID:Europe/Berlin
X-LIC-LOCATION:Europe/Berlin
BEGIN:STANDARD
DTSTART:20181028T020000
TZOFFSETFROM:+0200
TZOFFSETTO:+0100
TZNAME:CET
END:STANDARD
END:VTIMEZONE
END:VCALENDAR