BEGIN:VCALENDAR
VERSION:2.0
PRODID:-//wp-events-plugin.com//7.2.3.1//EN
TZID:Europe/Berlin
X-WR-TIMEZONE:Europe/Berlin
BEGIN:VEVENT
UID:4602@frauenportal.koeln
DTSTART;TZID=Europe/Berlin:20231210T140000
DTEND;TZID=Europe/Berlin:20231210T160000
DTSTAMP:20231130T115812Z
URL:https://frauenportal.koeln/veranstaltungen/leev-oder-unjeraeaechte-bar
 bara-9/
SUMMARY:Leev oder unjeräächte Barbara
DESCRIPTION:Krippen- und Weihnachtsführung.\n\nWie entstand die katholisch
 e Sitte\, Krippen aufzustellen\, und wie kam der ‚evangelische‘ Weihna
 chtsbaum ins Rheinland? Auf der Führung werden Krippen mit ungewöhnliche
 n Alltagsszenen besichtigt. Es ist von einer Prostituierten vor der Krippe
  zu hören und wie das Jesuskind in einem Bierfass ‚gelandet‘ ist. Es 
 geht um weibliche Heilige der Weihnachtszeit wie die Heilige Barbara und d
 ie Heilige Anna\, der Großmutter von Jesus. Die Tour ist nicht ganz barri
 erefrei.\n\nVeranstalterin:\nKölner Frauengeschichtsverein e.V.\n\nKontak
 t:\nTel.: 0221 / 24 82 65\, E-Mail: info@frauengeschichtsverein.de\n\nKost
 en / Anmeldung / Treffpunkt:\nKostenbeitrag: 12 Euro. Die Tour ist nicht g
 anz barrierefrei.\n\nTreffpunkt: vor St. Andreas
LOCATION:St. Andreas\, Komödienstr. 4-8\, 50667 Köln
GEO:50.94178;6.95494
X-APPLE-STRUCTURED-LOCATION;VALUE=URI;X-ADDRESS=Komödienstr. 4-8\, Köln\,
  50667\, Veranstaltungsort\, Deutschland;X-APPLE-RADIUS=100;X-TITLE=St. An
 dreas:geo:50.94178,6.95494
END:VEVENT
BEGIN:VTIMEZONE
TZID:Europe/Berlin
X-LIC-LOCATION:Europe/Berlin
BEGIN:STANDARD
DTSTART:20231029T020000
TZOFFSETFROM:+0200
TZOFFSETTO:+0100
TZNAME:CET
END:STANDARD
END:VTIMEZONE
END:VCALENDAR