BEGIN:VCALENDAR
VERSION:2.0
PRODID:-//wp-events-plugin.com//7.2.3.1//EN
TZID:Europe/Berlin
X-WR-TIMEZONE:Europe/Berlin
BEGIN:VEVENT
UID:6185@frauenportal.koeln
DTSTART;TZID=Europe/Berlin:20260424T180000
DTEND;TZID=Europe/Berlin:20260424T200000
DTSTAMP:20260331T134316Z
URL:https://frauenportal.koeln/veranstaltungen/lesbian-visibility-week-koe
 ln-2026-schaetze-aus-dem-archiv-des-frauengeschichtsvereins/
SUMMARY:Lesbian Visibility Week Köln 2026: Schätze aus dem Archiv des Fra
 uengeschichtsvereins
DESCRIPTION:Der Kölner Frauengeschichtsverein zeigt Zeugnisse lesbischer G
 eschichte aus dem Vereinsarchiv. \n\nVor ca. 30 Jahren hat der Verein bego
 nnen\, die Geschichte von Lesben zu dokumentieren. Es begann mit Flugblät
 tern und Protokollen aus dem Anfang der Neuen Frauenbewegung in Köln\, di
 e von – oft lesbisch liebenden – Aktivistinnen abgegeben wurden. Der v
 on Gertraut Müller gegründeten ersten Lesbengruppe (in der BRD) ist nun 
 ebenso nachzuspüren wie den ‘rivalisierenden’ Gruppen der Uris (Immer
 -schon-Lesben) und der Movies (durch-die-Frauenbewegung-lesbisch-gewordene
 n-Feministinnen)\, der Politlesbengruppe der 1990er Jahre oder der Einschr
 eibung von Lesben in die gay liberation front.\n2001 entstanden gleich zwe
 i Stadtrundgänge zur Lesbengeschichte\, die vom Frauengeschichtsverein re
 gelmäßig angeboten werden (und auch zu buchen sind). Poster und Flyer sp
 iegeln ein lebendiges Ausgehverhalten (fast alles ist eingeschlafen – wa
 rum?). Lesbenzeitschriften rufen sich wandelnde Diskurse auf (z.B. Ihrsinn
 \, Lesbenstich\, Lespress\, l-mag). Interviews mit lesbischen und queeren 
 Protagonistinnen lassen erkennen\, ob ihr Begehren besondere Relevanz für
  das Leben hatte – oder ob es kaum erwähnt wird. Heute werden die Best
 ände und Sammlungen von Mitarbeiterinnen wie Nutzerinnen für Artikel\, W
 ikiseiten\, einen queeren Audiowalk oder für Lesungen genutzt. \n \nAn di
 esem Abend werden Quellen gezeigt\, Geschichten rund um das Material erzä
 hlt\, Fragen beantwortet und voraussichtlich ein kleines Quiz zur Lesbenge
 schichte angeboten.\n\nDie Veranstaltung findet im Rahmen der Lesbian Visi
 bility Week – lesbisch.queer.köln – statt\, www.stadt-koeln.de\n\nVer
 anstaltende:\nKölner Frauengeschichtsverein e.V.\n\nKontakt:\nTel.: 0221 
 / 24 82 65\, E-Mail: info@frauengeschichtsverein.de\n\nKosten:\nKostenfre
 i
LOCATION:Kölner Frauengeschichtsverein\, Höninger Weg 100a\, 50969 Köln
GEO:50.916357;6.941413
X-APPLE-STRUCTURED-LOCATION;VALUE=URI;X-ADDRESS=Höninger Weg 100a\, Köln\
 , 50969\, Frauenorganisation\, Deutschland;X-APPLE-RADIUS=100;X-TITLE=Köl
 ner Frauengeschichtsverein:geo:50.916357,6.941413
END:VEVENT
BEGIN:VTIMEZONE
TZID:Europe/Berlin
X-LIC-LOCATION:Europe/Berlin
BEGIN:DAYLIGHT
DTSTART:20260329T030000
TZOFFSETFROM:+0100
TZOFFSETTO:+0200
TZNAME:CEST
END:DAYLIGHT
END:VTIMEZONE
END:VCALENDAR