BEGIN:VCALENDAR
VERSION:2.0
PRODID:-//wp-events-plugin.com//7.2.3.1//EN
TZID:Europe/Berlin
X-WR-TIMEZONE:Europe/Berlin
BEGIN:VEVENT
UID:2869@frauenportal.koeln
DTSTART;TZID=Europe/Berlin:20201002T190000
DTEND;TZID=Europe/Berlin:20201002T210000
DTSTAMP:20200930T133938Z
URL:https://frauenportal.koeln/veranstaltungen/lesung-faked-stories-experi
 mente-mit-der-wahrheit/
SUMMARY:Lesung „Faked Stories – Experimente mit der Wahrheit“
DESCRIPTION:Was ist wahr? In Zeiten von „fake news“ wächst die Sehnsuc
 ht nach Wirklichkeit und Authentizität. Doch das Echte und Erlebte zu üb
 erhöhen kann auch Abwertung des Fiktiven bedeuten\, und Fiktion ist nicht
  gleich Lüge. – Nika Bertram\, Doris Konradi\, Bettina Hesse\, Johanna 
 Hansen und Natascha Würzbach stellen Experimente mit der Wahrheit an und 
 leuchten die Verbindung von Phantasie\, Realität und Fiktion aus: literar
 isch\, essayistisch und filmisch:\n\nNika Bertram: Reise zum englischen En
 igma-Codebreaker Alan Turing\, den verlorenen „Turing Bytes“ und der L
 ogik der Poesie.\n\nBettina Hesse: Erinnerung ist das Herzstück des Erzä
 hlens\, aber auch eine Strategie\, um das Ich zu „erfinden“ und das Sc
 hreiben zu gestalten.\n\nDoris Konradi: Lügen in der Politik\, Leugnen vo
 n wissenschaftlichen Erkenntnissen – ist es Aufgabe der Kunst\, die Welt
  wieder zurechtzurücken? Ein Versuch zur Rettung der Fiktion.\n\nJohanna 
 Hansen/Elena Hill: Poesiefilm in Lyrik und Schriftbild um die Farbe Weiß.
  Dialog über die Vielschichtigkeit von Weiß als (laut-)malerischer Subte
 xt in Kunst und Literatur.\n\nNatascha Würzbach: Nachdenken über möglic
 he Welten – woran wir sie erkennen\, wie sie sich zur Wirklichkeit verha
 lten und was sie mit uns und wir mit ihnen machen.\n\nHier ist die Einladu
 ng: FakedStories_02.10.2020 (pdf-Datei\, 595 KB)\n\nVeranstalterin:\nGEDOK
  Köln\n\nKontakt:\nGeschäftsstelle der GEDOK Köln\, Tel.: 0221 / 43 33 
 49\, E-Mail: gedokkoeln@t-online.de\n\nVeranstaltungsort:\nFritz Thyssen S
 tiftung\, Amélie Thyssen Auditorium\, Apostelnkloster 13-15\, 50672 Köln
 \, [map id=11772]
END:VEVENT
BEGIN:VTIMEZONE
TZID:Europe/Berlin
X-LIC-LOCATION:Europe/Berlin
BEGIN:DAYLIGHT
DTSTART:20200329T030000
TZOFFSETFROM:+0100
TZOFFSETTO:+0200
TZNAME:CEST
END:DAYLIGHT
END:VTIMEZONE
END:VCALENDAR