BEGIN:VCALENDAR
VERSION:2.0
PRODID:-//wp-events-plugin.com//7.2.3.1//EN
TZID:Europe/Berlin
X-WR-TIMEZONE:Europe/Berlin
BEGIN:VEVENT
UID:1963@frauenportal.koeln
DTSTART;TZID=Europe/Berlin:20190612T160000
DTEND;TZID=Europe/Berlin:20190612T180000
DTSTAMP:20190531T145722Z
URL:https://frauenportal.koeln/veranstaltungen/lesung-im-beginenfenster-ab
 -ins-wohnprojekt/
SUMMARY:Lesung im Beginenfenster: Ab ins Wohnprojekt
DESCRIPTION:Lisa Frohn (www.lisafrohn.com) liest aus ihrem neuen Buch „Ab
  ins Wohnprojekt! Wohnträume werden Wirklichkeit".\n\nVeranstalterin:\nBe
 ginen Köln e.V.\n\nChristine Müthrath\, Tel.: 0221 / 9655820\, E-Mail: i
 nfo@beginen.de\n\nAnmeldung / Kosten:\nEintritt frei (Spende erwünscht)\n
 \nVeranstaltungsort:\nBeginenfenster\, Markmannsgasse 7\, 50667 Köln\, [m
 ap id=891]
END:VEVENT
BEGIN:VTIMEZONE
TZID:Europe/Berlin
X-LIC-LOCATION:Europe/Berlin
BEGIN:DAYLIGHT
DTSTART:20190331T030000
TZOFFSETFROM:+0100
TZOFFSETTO:+0200
TZNAME:CEST
END:DAYLIGHT
END:VTIMEZONE
END:VCALENDAR