BEGIN:VCALENDAR
VERSION:2.0
PRODID:-//wp-events-plugin.com//7.2.3.1//EN
TZID:Europe/Berlin
X-WR-TIMEZONE:Europe/Berlin
BEGIN:VEVENT
UID:1724@frauenportal.koeln
DTSTART;TZID=Europe/Berlin:20190109T160000
DTEND;TZID=Europe/Berlin:20190109T180000
DTSTAMP:20181230T122605Z
URL:https://frauenportal.koeln/veranstaltungen/lesung-im-beginenfenster-jo
 sefa-bissels-2/
SUMMARY:Lesung im Beginenfenster: Josefa Bissels 
DESCRIPTION:Die Autorin Josefa Bissels\, Preisträgerin des Brandenburgisch
 en Literaturpreises\, liest aus einem ihrer Werke. Anschließend besteht d
 ie Möglichkeit zum Gedankenaustausch.\n\nVeranstalterin:\nBeginen Köln e
 .V.\n\nChristine Müthrath\, Tel.: 0221 / 9655820\, E-Mail: info@beginen.d
 e\n\nAnmeldung / Kosten:\nEintritt frei (Spende erwünscht)\n\nVeranstaltu
 ngsort:\nBeginenfenster\, Markmannsgasse 7\, 50667 Köln\, [map id=891]
END:VEVENT
BEGIN:VTIMEZONE
TZID:Europe/Berlin
X-LIC-LOCATION:Europe/Berlin
BEGIN:STANDARD
DTSTART:20181028T020000
TZOFFSETFROM:+0200
TZOFFSETTO:+0100
TZNAME:CET
END:STANDARD
END:VTIMEZONE
END:VCALENDAR