BEGIN:VCALENDAR
VERSION:2.0
PRODID:-//wp-events-plugin.com//7.2.3.1//EN
TZID:Europe/Berlin
X-WR-TIMEZONE:Europe/Berlin
BEGIN:VEVENT
UID:3966@frauenportal.koeln
DTSTART;TZID=Europe/Berlin:20221202T190000
DTEND;TZID=Europe/Berlin:20221202T210000
DTSTAMP:20241111T110447Z
URL:https://frauenportal.koeln/veranstaltungen/lesung-mit-guen-tan-aus-ihr
 em-debuet-die-optimistinnen/
SUMMARY:Lesung mit Gün Tan aus ihrem Debüt "Die Optimistinnen"
DESCRIPTION:Eine neue Perspektive auf die Geschichte der Gastarbeiterinnen.
 \n\nDie 22-jährige Nour kommt in den siebziger Jahren nach Deutschland\, 
 um zu arbeiten. Sie ist eine der vielen Gastarbeiterinnen\, sie ist jung\,
  motiviert und optimistisch. Nour kommt aus Istanbul und lebt nun in einem
  Wohnheim in der Oberpfalz\, mit Frauen aus Spanien\, Italien\, Griechenla
 nd\, Jugoslawien\, Marokko\, Tunesien oder der Türkei. Während Nour Mini
 rock trägt\, tragen die oberpfälzischen Frauen im Dorf Kopftuch. Die Arb
 eitsbedingungen in der Fabrik sind fragwürdig\, die Entlohnung ist nicht 
 gerecht. Als Nour vom Frauenstreik im Thüringen der zwanziger Jahre erfä
 hrt\, ist sie inspiriert und stellt sich diesem Land: Gemeinsam mit all ih
 ren Freundinnen wird sie für die Rechte der Arbeiter und vor allem der Ar
 beiterinnen kämpfen.\n\nMit ihrem Debüt «Die Optimistinnen» feiert Gü
 n Tank die vielen Frauen\, die sich in der deutschen Geschichte kaum wiede
 rfinden. Starke Frauen\, mutige Frauen: Mütter und Großmütter. (Gabriel
 e) Gün Tank ist Autorin und Moderatorin. Sie hat Journalismus an der Marm
 ara-Universität in Istanbul studiert und ihren Master in Public Administr
 ation an der Hertie School of Governance in Berlin gemacht. Sie war Kurato
 rin der Ausstellung "22:14 ...und es kamen Frauen" (2011) zu den ersten Ar
 beitsmigrantinnen der Bundesrepublik und der Veranstaltungsreihe CrossKult
 ur. Zuletzt arbeitete sie als  Beauftragte für Menschen mit Behinderung i
 m Bezirk Tempelhof-Schöneberg.\n\nVeranstalterin:\nKölner Frauengeschich
 tsverein e.V.\nin Kooperation mit Rosa Luxemburgstiftung NRW (nrw.rosalux.
 de)\,  InterKultur e.V. und dem Bürgerhaus MüZe (www.interkultur-ev.net)
 \n\nKontakt:\nTel.: 0221 / 24 82 65\, E-Mail: info@frauengeschichtsverein.
 de\n\nKosten / Anmeldung:\nEintritt frei.\n\nVeranstaltungsort:\nMÜZE Mü
 lheimer Bürgerhaus\, Berliner Str. 77\, 51063 Köln\, [map id=911]
END:VEVENT
BEGIN:VTIMEZONE
TZID:Europe/Berlin
X-LIC-LOCATION:Europe/Berlin
BEGIN:STANDARD
DTSTART:20221030T020000
TZOFFSETFROM:+0200
TZOFFSETTO:+0100
TZNAME:CET
END:STANDARD
END:VTIMEZONE
END:VCALENDAR