BEGIN:VCALENDAR
VERSION:2.0
PRODID:-//wp-events-plugin.com//7.2.3.1//EN
TZID:Europe/Berlin
X-WR-TIMEZONE:Europe/Berlin
BEGIN:VEVENT
UID:3946@frauenportal.koeln
DTSTART;TZID=Europe/Berlin:20221119T193000
DTEND;TZID=Europe/Berlin:20221119T210000
DTSTAMP:20221114T100615Z
URL:https://frauenportal.koeln/veranstaltungen/lesung-mit-lale-guel-ich-we
 rde-leben/
SUMMARY:Lesung mit Lale Gül: „Ich werde Leben“
DESCRIPTION:Lale Gül hat einen autobiografischen Roman geschrieben: über 
 das Aufwachsen eines muslimischen Mädchens im abgehängten Amsterdamer We
 sten\, über Grenzen\, Gebote\, Loyalitäten einer  ultrakonservativen Fam
 ilie\, über die Hoffnung auf ein selbstbestimmtes Leben.\n\nNach der Ver
 öffentlichung des Buches steht sie plötzlich zwischen Rechten\, Linken u
 nd religiösen FanatikerInnen\, im Kampf um die eigene Stimme …\n\nDie A
 utorin: Lale Gül\, de.wikipedia.org/wiki/Lale_Gül\nModeratorin: Dr. Lale
  Akgün\, de.wikipedia.org/wiki/Lale_Akgün \nDeutsche Lesung: Sibel Polat
 \nSimultanübersetzung \n\nHier ist die Einladung: Flyer_LGül_19.11.2022
 \, pdf-Datei\, 221 KB\n\n"Das Private ist Politisch" lautet der Titel eine
 r Veranstaltungsreihe\, deren Auftakt die Lesung mit Lale Gül bildet. Ihr
 e Geschichte steht exemplarisch für den Kampf tausender Frauen und Männe
 r\, die sich aus den religiösen und patriarchalen Zwängen ihrer muslimis
 chen Familien und Herkunftsländer befreien und nach diesem Akt der Selbst
 bestimmung um ihr Leben fürchten müssen. In der aktuellen politischen un
 d feministischen Debatte wird dieser Aspekt autoritärer\, sexistischer un
 d religiöser Gewalt kaum thematisiert. Ein Bündnis aus säkularen\, femi
 nistischen Frauen und Initiativen will in loser Folge Frauen und Männern 
 eine Bühne geben\, die sich dem islamischen\, christlichen oder jüdische
 n Patriarchat und dessen religiösem Sittenkodex widersetzen und für ein 
 freies\, selbstbestimmtes Leben eintreten.\n\nVeranstalterinnen:\nDA! – 
 Düsseldorfer Aufklärungsdienst e.V.\, www.facebook.com/gbs.duesseldorf \
 nFEE – Fördern & Erfolge Ernten e.V.\, www.fee-koeln.de \nHenna Mond e.
 V.\, www.hennamond.de \nSäkulare Flüchtlingshilfe e.V.\, www.atheist-ref
 ugees.com \nHellen Vaziry \nHVD – Humanistischer Verband\, www.humanismu
 s.de \nNRW ISS-Bildungsakademie\, www.iss-netzwerk.de \n\nAnsprechpartneri
 n:\nFEE e.V.\, kontakt@fee-koeln.de\n\nKosten / Anmeldung:\nEintritt frei.
  Anmeldung unter: tickets@theaterimbauturm.de\n\nVeranstaltungsort:\nTheat
 er im Bauturm\, Aachener Str. 24-26\, 50674 Köln\, [map id=17943] 
END:VEVENT
BEGIN:VTIMEZONE
TZID:Europe/Berlin
X-LIC-LOCATION:Europe/Berlin
BEGIN:STANDARD
DTSTART:20221030T020000
TZOFFSETFROM:+0200
TZOFFSETTO:+0100
TZNAME:CET
END:STANDARD
END:VTIMEZONE
END:VCALENDAR