BEGIN:VCALENDAR
VERSION:2.0
PRODID:-//wp-events-plugin.com//7.2.3.1//EN
TZID:Europe/Berlin
X-WR-TIMEZONE:Europe/Berlin
BEGIN:VEVENT
UID:4307@frauenportal.koeln
DTSTART;TZID=Europe/Berlin:20230622T190000
DTEND;TZID=Europe/Berlin:20230622T213000
DTSTAMP:20230612T072124Z
URL:https://frauenportal.koeln/veranstaltungen/lesung-und-diskussion-femiz
 ide/
SUMMARY:Lesung und Diskussion: Femizide
DESCRIPTION:Lesung & Diskussion zum Buch „Fem(ni)zide – kollektiv patri
 archale Gewalt bekämpfen“.\n\nFemi(ni)zid dient als politischer Begriff
  der Benennung und Bekämpfung eines breiten Kontinuums patriarchaler Gewa
 lt gegen Frauen\, Lesben\, inter\, nichtbinäre\, trans und agender Person
 en (FLINTA). Das Buch thematisiert die strukturellen und intersektionalen 
 Gewaltverhältnisse\, die den Morden zugrunde liegen.\n\nEs gibt einen Bü
 chertisch von „Der andere Buchladen Köln-Sülz" (https://der-andere-buc
 hladen-koeln.de/suelz)“ sowie einen Infotisch rund um das Kölner Hilfes
 ystem.\n\nHier ist die Ankündigung: Lesung Femizide 22.06.2023 (pdf-Datei
 \, 344 KB)\n\nVeranstalterinnen:\nBündnis autonomer Frauenprojekte gegen 
 Gewalt – Lila in Köln\nmit Kooperationspartnerinnen\n\nAnsprechpartneri
 n:\nIrmgard Kopetzky\, Tel.: 0221 / 56 20 35\, E-Mail: mailbox@notruf-koel
 n.de\n\nKosten / Anmeldung:\nEintritt frei\, Spenden sind willkommen.
LOCATION:MÜZE Mülheimer Bürgerhaus\, Berliner Str. 77\, 51063 Köln
GEO:50.972384;7.010507
X-APPLE-STRUCTURED-LOCATION;VALUE=URI;X-ADDRESS=Berliner Str. 77\, Köln\, 
 51063\, Veranstaltungsort\, Deutschland;X-APPLE-RADIUS=100;X-TITLE=MÜZE M
 ülheimer Bürgerhaus:geo:50.972384,7.010507
END:VEVENT
BEGIN:VTIMEZONE
TZID:Europe/Berlin
X-LIC-LOCATION:Europe/Berlin
BEGIN:DAYLIGHT
DTSTART:20230326T030000
TZOFFSETFROM:+0100
TZOFFSETTO:+0200
TZNAME:CEST
END:DAYLIGHT
END:VTIMEZONE
END:VCALENDAR