BEGIN:VCALENDAR
VERSION:2.0
PRODID:-//wp-events-plugin.com//7.2.3.1//EN
TZID:Europe/Berlin
X-WR-TIMEZONE:Europe/Berlin
BEGIN:VEVENT
UID:2112@frauenportal.koeln
DTSTART;TZID=Europe/Berlin:20191117T160000
DTEND;TZID=Europe/Berlin:20191117T200000
DTSTAMP:20211018T130142Z
URL:https://frauenportal.koeln/veranstaltungen/lesung-was-ich-von-starken-
 frauen-gelernt-habe/
SUMMARY:Lesung: Was ich von starken Frauen gelernt habe
DESCRIPTION:Fällt wegen Erkrankung des Autors leider aus. Wird zu einem sp
 äteren Zeitpunkt nachgeholt.\n\nHubertus Meyer-Burckhardt liest aus seine
 m Buch "Frauengeschichten".\n\nIn seinem Band „Frauengeschichten. Was ic
 h von starken Frauen gelernt habe“ versammelt der Autor zehn herausragen
 de Gespräche mit erfolgreichen Frauen. Die Auswahl reicht von Marianne S
 ägebrecht über Elke Heidenreich bis zu Ina Müller. Hubertus Meyer-Burck
 hardt\, geb. 1956\, ist ein preisgekrönter Film- und TV-Produzent\, Journ
 alist\, Manager in der Medienbranche\, Schriftsteller und seit mehr als 15
  Jahren Moderator der "NDR Talk Show". Beim Hörfunksender NDR Info hat Hu
 bertus Meyer-Burckhardt seinen eigenen Talk. Er lebt in Hamburg.\n\nProgra
 mm\n\n16.30 Uhr (Einlass ab 16.00 Uhr)\nFührung durch die Kölner Synagog
 e\n\n18.30 Uhr (Einlass ab 18.00 Uhr)\nAutorenlesung\n\nIm Anschluss klein
 er Imbiss\n\nVeranstalterin:\nWIZO Gruppe und AVIV Köln e.V.\, WIZO Köln
 \n\nAnsprechpartnerin:\nGoldita Nasta\, E-Mail: wizocgn@gmail.com\n\nVeran
 staltungsort:\nSynagoge Köln\, Roonstr. 50\, 50674 Köln\, [map id=1085]
END:VEVENT
BEGIN:VTIMEZONE
TZID:Europe/Berlin
X-LIC-LOCATION:Europe/Berlin
BEGIN:STANDARD
DTSTART:20191027T020000
TZOFFSETFROM:+0200
TZOFFSETTO:+0100
TZNAME:CET
END:STANDARD
END:VTIMEZONE
END:VCALENDAR