BEGIN:VCALENDAR
VERSION:2.0
PRODID:-//wp-events-plugin.com//7.2.3.1//EN
TZID:Europe/Berlin
X-WR-TIMEZONE:Europe/Berlin
BEGIN:VEVENT
UID:2002@frauenportal.koeln
DTSTART;TZID=Europe/Berlin:20190725T190000
DTEND;TZID=Europe/Berlin:20190725T210000
DTSTAMP:20190715T123435Z
URL:https://frauenportal.koeln/veranstaltungen/lets-talk-about-our-safety-
 2/
SUMMARY:Let´s talk about our SAFETY!
DESCRIPTION:Tatjana Faranda zu ihrem Angebot:\n\n"Hallo liebe Damen\, \n\na
 ls Selbstverteidigungstrainerin in der wundervollen Südstadt\, möchte ic
 h gerne wieder über das Thema „Eigensicherheit“ sprechen.\n\nUnsere T
 hemen sind unter anderem:\nMindset (Denkweise)\nAwareness (Bewusstsein)\nD
 on´t be a nice girl (Du musst nicht nett sein)\nuvm.\n\nIch bin der Meinu
 ng\, jede Frau muss sich selbst verteidigen können. Wir sollten in der La
 ge sein\, Gefahren frühzeitig zu erkennen\, um gar nicht erst in eine sol
 ch traumatische Situation zu kommen.\n\nIn einer Runde von maximal 10 Teil
 nehmerinnen werde ich auf die verschiedenen Themen eingehen. Unter anderem
  erfahrt Ihr\, wie ihr durch ein neues Mindset\, dass nötige Selbstvertra
 uen entwickelt euch selbst verteidigen zu wollen. In der zweiten Hälfte d
 er Veranstaltung bleibt Zeit Eure Frage zu besprechen.\n\nNicht-alkohokisc
 he Getränke sind im Preis (10 Euro) inbegriffen.\n\nNimm deine Mama\, Toc
 hter\, Schwester oder Freundin gleich mit\, denn dieses Thema geht alle Fr
 auen etwas an.\n\nMelde dich gerne via Facebook (Phoenix Power) per Mail u
 nter: Kontakt@phoenix-power.de oder unter 0221 29707826\n\nOrt und weitere
  Informationen werden bei Anmeldung bekannt gegeben.\n\nDanke für DICH!\n
 \nLiebe Grüße\nTatjana\nwww.phoenix-power.de"\n
END:VEVENT
BEGIN:VTIMEZONE
TZID:Europe/Berlin
X-LIC-LOCATION:Europe/Berlin
BEGIN:DAYLIGHT
DTSTART:20190331T030000
TZOFFSETFROM:+0100
TZOFFSETTO:+0200
TZNAME:CEST
END:DAYLIGHT
END:VTIMEZONE
END:VCALENDAR