BEGIN:VCALENDAR
VERSION:2.0
PRODID:-//wp-events-plugin.com//7.2.3.1//EN
TZID:Europe/Berlin
X-WR-TIMEZONE:Europe/Berlin
BEGIN:VEVENT
UID:2133@frauenportal.koeln
DTSTART;TZID=Europe/Berlin:20191118T190000
DTEND;TZID=Europe/Berlin:20191118T210000
DTSTAMP:20191010T114202Z
URL:https://frauenportal.koeln/veranstaltungen/lets-talk-about-our-safety-
 4/
SUMMARY:Let´s talk about OUR SAFETY!
DESCRIPTION:Tatjana Faranda zu ihrem Angebot:\n\n"Hallo liebe Frauen\,\n\na
 ls Selbstverteidigungstrainerin in der wundervollen Südstadt veranstalte 
 ich einmal im Monat eine: "Let´s talk about OUR SAFETY- Runde" in meinem 
 Trainingsraum.\n\nUnsere Themen in der Runde sind unter anderem:\nMindset 
 (Denkweise)\nAwareness (Bewusstsein)\nDon´t be a nice girl (Du musst nich
 t nett sein)\nuvm.\n\nIch bin der Meinung\, jede Frau muss sich selbst ver
 teidigen können. Wir sollten in der Lage sein\, Gefahren frühzeitig zu e
 rkennen\, um gar nicht erst in eine traumatische Situation zu kommen.\n\nI
 n einer Runde von maximal 10 Teilnehmerinnen werde ich auf die verschieden
 en Themen eingehen. Unter anderem erfahrt Ihr\, wie ihr durch ein neues Mi
 ndset\, dass nötige Selbstvertrauen entwickelt euch selbst verteidigen zu
  WOLLEN. In der zweiten Hälfte der Veranstaltung bleibt Zeit Eure Frage z
 u besprechen.\nNicht-alkohokische Getränke sind im Preis (15 Euro) inbegr
 iffen.\n\nNimm deine Mama\, Tochter\, Schwester oder Freundin gleich mit\,
  denn dieses Thema geht alle Frauen etwas an.\n\nMelde dich gerne via Face
 book\, Instagram oder Mail an.\nKontakt@phoenix-power.de\n\nNach der Anmel
 dung bekommst du alle Details von mir.\n\nIch freue mich auf Dich!\nLiebe 
 Grüße\nTatjana\nPhoenix Power"
END:VEVENT
BEGIN:VTIMEZONE
TZID:Europe/Berlin
X-LIC-LOCATION:Europe/Berlin
BEGIN:STANDARD
DTSTART:20191027T020000
TZOFFSETFROM:+0200
TZOFFSETTO:+0100
TZNAME:CET
END:STANDARD
END:VTIMEZONE
END:VCALENDAR