BEGIN:VCALENDAR
VERSION:2.0
PRODID:-//wp-events-plugin.com//7.2.3.1//EN
TZID:Europe/Berlin
X-WR-TIMEZONE:Europe/Berlin
BEGIN:VEVENT
UID:3327@frauenportal.koeln
DTSTART;TZID=Europe/Berlin:20210914T210000
DTEND;TZID=Europe/Berlin:20210914T230000
DTSTAMP:20210831T130508Z
URL:https://frauenportal.koeln/veranstaltungen/letsdok-screening-woman/
SUMMARY:LETsDOK Screening: WOMAN
DESCRIPTION:Im Rahmen von LETsDOK (www.letsdok.de) zeigt WIFT Köln in Koop
 eration mit der AG DOK den Dokumentarfilm WOMAN von Anastasia Mikova und Y
 ann Arthus-Bertrand. Mehr zum Film: www.mindjazz-pictures.de/filme/woman/\
 n\nIm Anschluss an den Film findet ein Filmgespräch mit den WIFT-Mitglied
 ern Fitore Muzaqi und Martina Pfaff statt. \n\nVeranstalterin:\nWIFTG - Wo
 men in Film &amp\; Television Germany e.V.\, www.wiftg.de\n\nAnsprechpartn
 erinnen:\nCornelia Köhler\, E-Mail: corkoehler@web.de\n\nKosten / Anmeldu
 ng:\nAnmeldung erforderlich unter info@wiftg.de\nFilm-Start bei Einbruch d
 er Dunkelheit. \n\nVeranstaltungsort:\nKöln-Nippes\, die genaue Adresse w
 ird nach der Anmeldung mitgeteilt. 
END:VEVENT
BEGIN:VTIMEZONE
TZID:Europe/Berlin
X-LIC-LOCATION:Europe/Berlin
BEGIN:DAYLIGHT
DTSTART:20210328T030000
TZOFFSETFROM:+0100
TZOFFSETTO:+0200
TZNAME:CEST
END:DAYLIGHT
END:VTIMEZONE
END:VCALENDAR