BEGIN:VCALENDAR
VERSION:2.0
PRODID:-//wp-events-plugin.com//7.2.3.1//EN
TZID:Europe/Berlin
X-WR-TIMEZONE:Europe/Berlin
BEGIN:VEVENT
UID:4378@frauenportal.koeln
DTSTART;TZID=Europe/Berlin:20230913T200000
DTEND;TZID=Europe/Berlin:20230913T220000
DTSTAMP:20230830T134012Z
URL:https://frauenportal.koeln/veranstaltungen/letsdok-wift-screening-nati
 onal-bird/
SUMMARY:LETsDOK WIFT Screening: National Bird
DESCRIPTION:WIFT Köln beteiligt sich wieder mit einer „Gartenkino“-Ver
 anstaltung an der bundesweiten Dokumentarfilmwoche LETsDOK und zeigt den v
 iel beachteten und sehr empfehlenswerten Dokumentarfilm „National Bird
 “ von Sonia Kennebeck (http://nationalbirdfilm.com/).\n\nDie Komponistin
  der Filmmusik\, Insa Rudolph\, wird anwesend sein und im Anschluss Fragen
  beantworten. Moderiert wird das Filmgespräch von WIFT-Mitglied Martina P
 faff. \n \nVeranstalterin:\nWIFTG - Women in Film &amp\; Television German
 y e.V.\, www.wiftg.de\nin Kooperation mit LETsDOK (www.letsdok.de) und LaD
 OC (www.ladoc.de)\n\nAnsprechpartnerinnen:\nCornelia Köhler\, E-Mail: cor
 koehler@web.de\n\nKosten / Anmeldung:\nEintritt: frei\, Getränke auf Spen
 denbasis. Anmeldung erforderlich unter info@wiftg.de\nFilmbeginn nach Einb
 ruch der Dunkelheit.\n\nVeranstaltungsort:\nDie Vorführung findet open ai
 r in Köln Nippes statt. Die Adresse wird nach Anmeldung bekannt gegeben.
END:VEVENT
BEGIN:VTIMEZONE
TZID:Europe/Berlin
X-LIC-LOCATION:Europe/Berlin
BEGIN:DAYLIGHT
DTSTART:20230326T030000
TZOFFSETFROM:+0100
TZOFFSETTO:+0200
TZNAME:CEST
END:DAYLIGHT
END:VTIMEZONE
END:VCALENDAR