BEGIN:VCALENDAR
VERSION:2.0
PRODID:-//wp-events-plugin.com//7.2.3.1//EN
TZID:Europe/Berlin
X-WR-TIMEZONE:Europe/Berlin
BEGIN:VEVENT
UID:5193@frauenportal.koeln
DTSTART;TZID=Europe/Berlin:20240910T200000
DTEND;TZID=Europe/Berlin:20240910T220000
DTSTAMP:20240906T133048Z
URL:https://frauenportal.koeln/veranstaltungen/letsdok-wift-screening-wenn
 -die-seele-friert/
SUMMARY:LETsDOK WIFT Screening: Wenn die Seele friert ...
DESCRIPTION:WIFT Köln beteiligt sich wieder mit einer „Gartenkino“-Ver
 anstaltung an der bundesweiten Dokumentarfilmwoche LETsDOK und zeigt einf
 ühlsamen Film "Wenn die Seele friert ..." von Stella Sema Yeşiltaç.\n\
 nAnschließendes Q&A mit der Regisseurin Stella Sema Yeşiltaç moderiert 
 von WIFT-Repräsentantin Martina Pfaff. \n\nVeranstalterin:\nWIFTG - Women
  in Film &amp\; Television Germany e.V.\, www.wiftg.de\nin Kooperation mit
  LETsDOK (www.letsdok.de) und LaDOC (www.ladoc.de)\n\nAnsprechpartnerinnen
 :\nCornelia Köhler\, E-Mail: corkoehler@web.de\n\nKosten / Anmeldung:\nEi
 ntritt: frei\, Getränke auf Spendenbasis. Anmeldung erforderlich unter in
 fo@wiftg.de\nFilmbeginn nach Einbruch der Dunkelheit.\n\nVeranstaltungsort
 :\nDie Vorführung findet open air in Köln Nippes statt. Die Adresse wird
  nach Anmeldung bekannt gegeben.
END:VEVENT
BEGIN:VTIMEZONE
TZID:Europe/Berlin
X-LIC-LOCATION:Europe/Berlin
BEGIN:DAYLIGHT
DTSTART:20240331T030000
TZOFFSETFROM:+0100
TZOFFSETTO:+0200
TZNAME:CEST
END:DAYLIGHT
END:VTIMEZONE
END:VCALENDAR