BEGIN:VCALENDAR
VERSION:2.0
PRODID:-//wp-events-plugin.com//7.2.3.1//EN
TZID:Europe/Berlin
X-WR-TIMEZONE:Europe/Berlin
BEGIN:VEVENT
UID:2452@frauenportal.koeln
DTSTART;TZID=Europe/Berlin:20190505T193000
DTEND;TZID=Europe/Berlin:20190505T235500
DTSTAMP:20191104T115307Z
URL:https://frauenportal.koeln/veranstaltungen/lila_bunt-soliparty/
SUMMARY:#lila_bunt Soliparty
DESCRIPTION:Aus der Ankündigung:\n"#lila_bunt - Feministische Bildung\, Pr
 axis & Utopie\, der neue queer_feministische Bildungsort in der Nähe von 
 Köln\, ist im Juli an den Start gegangen. Das wollen und müssen wir mit 
 euch feiern! Von Trompete bis Plattenteller erstreckt sich das geplante Am
 usement: Drei mega-feine Konzerte\, Bingo-action und anschließende Party\
 , die sowohl Flash Pop und 80s\, als auch satte Elektro-Beats bietet - dan
 cen gegen Patriarchat und Gesamtscheiße! Das wird gut. All gender welcome
 ."  \n\nMehr Infos: www.facebook.com/events/522673908570690 \n\nVeranstalt
 erinnen:\nFrauenbildungs- und Tagungshaus Zülpich e.V.\, www.lila-bunt-zu
 elpich.de\n\nAnsprechpartnerin:\nLinda Kagerbauer\, Tel.: 02252 / 6577\, E
 -Mail: lila_bunt@posteo.de\n\nVeranstaltungsort:\nAZ Autonomes Zentrum\, L
 uxemburger Str. 93\, 50939 Köln\, [map id=15155]    
END:VEVENT
BEGIN:VTIMEZONE
TZID:Europe/Berlin
X-LIC-LOCATION:Europe/Berlin
BEGIN:DAYLIGHT
DTSTART:20190331T030000
TZOFFSETFROM:+0100
TZOFFSETTO:+0200
TZNAME:CEST
END:DAYLIGHT
END:VTIMEZONE
END:VCALENDAR