BEGIN:VCALENDAR
VERSION:2.0
PRODID:-//wp-events-plugin.com//7.2.3.1//EN
TZID:Europe/Berlin
X-WR-TIMEZONE:Europe/Berlin
BEGIN:VEVENT
UID:905@frauenportal.koeln
DTSTART;TZID=Europe/Berlin:20180111T190000
DTEND;TZID=Europe/Berlin:20180111T210000
DTSTAMP:20171229T161052Z
URL:https://frauenportal.koeln/veranstaltungen/loslassen-platz-schaffen-fu
 er-neues-nlp-info-workshop-2/
SUMMARY:Loslassen\, Platz schaffen für Neues – NLP-Info-Workshop
DESCRIPTION:- Lass es einfach los! - \n\nJenison Thomkins zu ihrem Angebot:
 \n\n"Lass es einfach los! Ob Liebeskummer\, überholte Verhaltensmuster\, 
 frustrierende Beziehungen\, ungeliebte Arbeitsplätze oder familiäre Vers
 trickungen – irgendwann wird es Zeit\, sich davon zu lösen. Frei nach H
 ermann Hesse: ‚Wohlan denn Herz: Nimm Abschied und gesunde!‘ Aber oft 
 fällt es uns sehr schwer.\n\nWie’s leicht gelingt\, erfahren Sie an die
 sem Abend im NLP-Info-Workshop!\n\nWas geschieht beim NLP-Info-Workshop?\n
 \n\n	    Ankommen\, Tee trinken\n\n	    Trainer\, Assistent-Innen und ande
 re nette Menschen kennenlernen\n\n   	 theoretische Einführung ins NLP-Th
 ema\n\n   	 Praktische Übung mit persönlichem Feedback\n\n   	 allgemein
 e Infos zu NLP und den aktuellen Ausbildungen und Workshops im Atelier fü
 r NLP&Persönlichkeitsentwicklung"\n\n\nMehr Infos und Anmeldung bei Jenis
 on Thomkins\, Atelier für NLP & Persönlichkeitsentwicklung
END:VEVENT
BEGIN:VTIMEZONE
TZID:Europe/Berlin
X-LIC-LOCATION:Europe/Berlin
BEGIN:STANDARD
DTSTART:20171029T020000
TZOFFSETFROM:+0200
TZOFFSETTO:+0100
TZNAME:CET
END:STANDARD
END:VTIMEZONE
END:VCALENDAR