BEGIN:VCALENDAR
VERSION:2.0
PRODID:-//wp-events-plugin.com//7.2.3.1//EN
TZID:Europe/Berlin
X-WR-TIMEZONE:Europe/Berlin
BEGIN:VEVENT
UID:4318@frauenportal.koeln
DTSTART;TZID=Europe/Berlin:20230622T180000
DTEND;TZID=Europe/Berlin:20230622T200000
DTSTAMP:20230531T163709Z
URL:https://frauenportal.koeln/veranstaltungen/loss-mer-fiere-120-jahre-in
 ternationaler-lyceum-club/
SUMMARY:Loss mer fiere! – 120 Jahre Internationaler Lyceum Club
DESCRIPTION:Vor 120 Jahren wurde der Internationale Lyceum Club in London g
 egründet. Aus diesem Anlass wird herzlich ein zu einem Konzertabend einge
 laden.\n\nDie Mezzosopranistin Anna Lautwein und die Pianistinnen Laura Pi
 tz und Ani Ter-Martirosyan haben zusammen mit den ILC-Köln-Stipendiatinne
 n der Hochschule für Musik und Tanz Köln ein abwechslungsreiches Program
 m zusammengestellt. Mehr dazu: www.lyceumclub-koeln.de/veranstaltungen/los
 s-mer-fiere-120-jahre-internationaler-lyceum-club/\n\nVeranstalterin:\nInt
 ernationaler Lyceum Club Köln e.V.\n\nAnsprechpartnerin:\nHeidi Esser\, E
 -Mail: info@lyceumclub-koeln.de\n\nKosten / Anmeldung:\nKarten zum Preis v
 on 25 € bitte bestellen unter info@lyceumclub-koeln.de\n\nEinlass:\n17.4
 5 Uhr
LOCATION:Sancta-Clara-Keller\, Am Römerturm 3\, 50667 Köln
GEO:50.9404726;6.947310199999947
X-APPLE-STRUCTURED-LOCATION;VALUE=URI;X-ADDRESS=Am Römerturm 3\, Köln\, 5
 0667\, Veranstaltungsort\, Deutschland;X-APPLE-RADIUS=100;X-TITLE=Sancta-C
 lara-Keller:geo:50.9404726,6.947310199999947
END:VEVENT
BEGIN:VTIMEZONE
TZID:Europe/Berlin
X-LIC-LOCATION:Europe/Berlin
BEGIN:DAYLIGHT
DTSTART:20230326T030000
TZOFFSETFROM:+0100
TZOFFSETTO:+0200
TZNAME:CEST
END:DAYLIGHT
END:VTIMEZONE
END:VCALENDAR